BEGIN:VCALENDAR
VERSION:2.0
PRODID:-//Badminton Club de Castanet - ECPv6.15.12.2//NONSGML v1.0//EN
CALSCALE:GREGORIAN
METHOD:PUBLISH
X-WR-CALNAME:Badminton Club de Castanet
X-ORIGINAL-URL:https://www.badminton-castanet.fr
X-WR-CALDESC:Évènements pour Badminton Club de Castanet
REFRESH-INTERVAL;VALUE=DURATION:PT1H
X-Robots-Tag:noindex
X-PUBLISHED-TTL:PT1H
BEGIN:VTIMEZONE
TZID:Europe/Paris
BEGIN:DAYLIGHT
TZOFFSETFROM:+0100
TZOFFSETTO:+0200
TZNAME:CEST
DTSTART:20250330T010000
END:DAYLIGHT
BEGIN:STANDARD
TZOFFSETFROM:+0200
TZOFFSETTO:+0100
TZNAME:CET
DTSTART:20251026T010000
END:STANDARD
BEGIN:DAYLIGHT
TZOFFSETFROM:+0100
TZOFFSETTO:+0200
TZNAME:CEST
DTSTART:20260329T010000
END:DAYLIGHT
BEGIN:STANDARD
TZOFFSETFROM:+0200
TZOFFSETTO:+0100
TZNAME:CET
DTSTART:20261025T010000
END:STANDARD
BEGIN:DAYLIGHT
TZOFFSETFROM:+0100
TZOFFSETTO:+0200
TZNAME:CEST
DTSTART:20270328T010000
END:DAYLIGHT
BEGIN:STANDARD
TZOFFSETFROM:+0200
TZOFFSETTO:+0100
TZNAME:CET
DTSTART:20271031T010000
END:STANDARD
END:VTIMEZONE
BEGIN:VEVENT
DTSTART;TZID=Europe/Paris:20260108T170000
DTEND;TZID=Europe/Paris:20260108T183000
DTSTAMP:20260423T220928
CREATED:20250911T132435Z
LAST-MODIFIED:20250911T132612Z
UID:2174-1767891600-1767897000@www.badminton-castanet.fr
SUMMARY:Jeu libre - 08/01/2026
DESCRIPTION:
URL:https://www.badminton-castanet.fr/evenement/jeu-libre-08-01-2026/
CATEGORIES:Jeu libre
ATTACH;FMTTYPE=image/jpeg:https://www.badminton-castanet.fr/wp-content/uploads/2025/07/Image-jeu-libre.jpg
END:VEVENT
BEGIN:VEVENT
DTSTART;TZID=Europe/Paris:20260108T170000
DTEND;TZID=Europe/Paris:20260108T183000
DTSTAMP:20260423T220928
CREATED:20250924T081701Z
LAST-MODIFIED:20250924T081942Z
UID:2547-1767891600-1767897000@www.badminton-castanet.fr
SUMMARY:Entrainement Para-Bad - 08/01/2026
DESCRIPTION:
URL:https://www.badminton-castanet.fr/evenement/entrainement-para-bad-08-01-2026/
CATEGORIES:Entrainements
ATTACH;FMTTYPE=image/jpeg:https://www.badminton-castanet.fr/wp-content/uploads/2025/07/Photo-Benjamin-1.jpg
END:VEVENT
BEGIN:VEVENT
DTSTART;TZID=Europe/Paris:20260108T170000
DTEND;TZID=Europe/Paris:20260108T183000
DTSTAMP:20260423T220928
CREATED:20250924T082135Z
LAST-MODIFIED:20250924T082418Z
UID:2595-1767891600-1767897000@www.badminton-castanet.fr
SUMMARY:Entrainement Mini-Bad - 08/01/2026
DESCRIPTION:
URL:https://www.badminton-castanet.fr/evenement/entrainement-mini-bad-08-01-2026/
CATEGORIES:Entrainements
ATTACH;FMTTYPE=image/jpeg:https://www.badminton-castanet.fr/wp-content/uploads/2025/07/Photo-Benjamin-1.jpg
END:VEVENT
BEGIN:VEVENT
DTSTART;TZID=Europe/Paris:20260108T200000
DTEND;TZID=Europe/Paris:20260108T233000
DTSTAMP:20260423T220928
CREATED:20250911T131301Z
LAST-MODIFIED:20250911T131701Z
UID:1923-1767902400-1767915000@www.badminton-castanet.fr
SUMMARY:Jeu libre jeudi - 08/01/2026
DESCRIPTION:
URL:https://www.badminton-castanet.fr/evenement/jeu-libre-jeudi-08-01-2026/
CATEGORIES:Jeu libre
END:VEVENT
BEGIN:VEVENT
DTSTART;TZID=Europe/Paris:20260108T201500
DTEND;TZID=Europe/Paris:20260108T213000
DTSTAMP:20260423T220928
CREATED:20250924T072750Z
LAST-MODIFIED:20250924T081241Z
UID:2467-1767903300-1767907800@www.badminton-castanet.fr
SUMMARY:Entrainement Adultes Intermédiaires - 08/01/2026
DESCRIPTION:
URL:https://www.badminton-castanet.fr/evenement/entrainement-adultes-intermediaires-08-01-2026/
CATEGORIES:Entrainements
ATTACH;FMTTYPE=image/jpeg:https://www.badminton-castanet.fr/wp-content/uploads/2025/07/Photo-Benjamin-1.jpg
END:VEVENT
BEGIN:VEVENT
DTSTART;TZID=Europe/Paris:20260108T213000
DTEND;TZID=Europe/Paris:20260108T224500
DTSTAMP:20260423T220928
CREATED:20250924T073723Z
LAST-MODIFIED:20250924T074509Z
UID:2481-1767907800-1767912300@www.badminton-castanet.fr
SUMMARY:Entrainement Adultes confirmés - 08/01/2026
DESCRIPTION:
URL:https://www.badminton-castanet.fr/evenement/entrainement-adultes-confirmes-08-01-2026/
CATEGORIES:Entrainements
ATTACH;FMTTYPE=image/jpeg:https://www.badminton-castanet.fr/wp-content/uploads/2025/07/Photo-Benjamin-1.jpg
END:VEVENT
END:VCALENDAR