BEGIN:VCALENDAR
VERSION:2.0
PRODID:-//Badminton Club de Castanet - ECPv6.15.12.2//NONSGML v1.0//EN
CALSCALE:GREGORIAN
METHOD:PUBLISH
X-WR-CALNAME:Badminton Club de Castanet
X-ORIGINAL-URL:https://www.badminton-castanet.fr
X-WR-CALDESC:Évènements pour Badminton Club de Castanet
REFRESH-INTERVAL;VALUE=DURATION:PT1H
X-Robots-Tag:noindex
X-PUBLISHED-TTL:PT1H
BEGIN:VTIMEZONE
TZID:Europe/Paris
BEGIN:DAYLIGHT
TZOFFSETFROM:+0100
TZOFFSETTO:+0200
TZNAME:CEST
DTSTART:20250330T010000
END:DAYLIGHT
BEGIN:STANDARD
TZOFFSETFROM:+0200
TZOFFSETTO:+0100
TZNAME:CET
DTSTART:20251026T010000
END:STANDARD
BEGIN:DAYLIGHT
TZOFFSETFROM:+0100
TZOFFSETTO:+0200
TZNAME:CEST
DTSTART:20260329T010000
END:DAYLIGHT
BEGIN:STANDARD
TZOFFSETFROM:+0200
TZOFFSETTO:+0100
TZNAME:CET
DTSTART:20261025T010000
END:STANDARD
BEGIN:DAYLIGHT
TZOFFSETFROM:+0100
TZOFFSETTO:+0200
TZNAME:CEST
DTSTART:20270328T010000
END:DAYLIGHT
BEGIN:STANDARD
TZOFFSETFROM:+0200
TZOFFSETTO:+0100
TZNAME:CET
DTSTART:20271031T010000
END:STANDARD
END:VTIMEZONE
BEGIN:VEVENT
DTSTART;TZID=Europe/Paris:20260127T170000
DTEND;TZID=Europe/Paris:20260127T233000
DTSTAMP:20260423T190718
CREATED:20250911T130953Z
LAST-MODIFIED:20250911T131104Z
UID:1877-1769533200-1769556600@www.badminton-castanet.fr
SUMMARY:Jeu libre mardi - 27/01/2026
DESCRIPTION:
URL:https://www.badminton-castanet.fr/evenement/jeu-libre-mardi-27-01-2026/
CATEGORIES:Jeu libre
ATTACH;FMTTYPE=image/jpeg:https://www.badminton-castanet.fr/wp-content/uploads/2025/07/Image-jeu-libre.jpg
END:VEVENT
BEGIN:VEVENT
DTSTART;TZID=Europe/Paris:20260127T173000
DTEND;TZID=Europe/Paris:20260127T190000
DTSTAMP:20260423T190718
CREATED:20250924T082927Z
LAST-MODIFIED:20250924T083154Z
UID:2646-1769535000-1769540400@www.badminton-castanet.fr
SUMMARY:Entrainement Jeunes - 27/01/2026
DESCRIPTION:
URL:https://www.badminton-castanet.fr/evenement/entrainement-jeunes-27-01-2026/
CATEGORIES:Entrainements
ATTACH;FMTTYPE=image/jpeg:https://www.badminton-castanet.fr/wp-content/uploads/2025/07/Photo-Benjamin-1.jpg
END:VEVENT
BEGIN:VEVENT
DTSTART;TZID=Europe/Paris:20260127T190000
DTEND;TZID=Europe/Paris:20260127T203000
DTSTAMP:20260423T190718
CREATED:20250924T083313Z
LAST-MODIFIED:20250924T083429Z
UID:2694-1769540400-1769545800@www.badminton-castanet.fr
SUMMARY:Entrainement Ados - 27/01/2026
DESCRIPTION:
URL:https://www.badminton-castanet.fr/evenement/entrainement-ados-27-01-2026/
CATEGORIES:Entrainements
ATTACH;FMTTYPE=image/jpeg:https://www.badminton-castanet.fr/wp-content/uploads/2025/07/Photo-Benjamin-1.jpg
END:VEVENT
BEGIN:VEVENT
DTSTART;TZID=Europe/Paris:20260127T200000
DTEND;TZID=Europe/Paris:20260127T233000
DTSTAMP:20260423T190718
CREATED:20251108T172657Z
LAST-MODIFIED:20251108T172657Z
UID:2951-1769544000-1769556600@www.badminton-castanet.fr
SUMMARY:Interclub EXTÉRIEUR Départemental 3 Équipe 3 - 27/01/2026
DESCRIPTION:Rencontre Interclub de l’équipe 3 en Départemental 3. \nBEAUZELLE
URL:https://www.badminton-castanet.fr/evenement/interclub-exterieur-departemental-3-equipe-3-27-01-2026/
LOCATION:Castanet
CATEGORIES:Compétitions
ATTACH;FMTTYPE=image/jpeg:https://www.badminton-castanet.fr/wp-content/uploads/2025/10/2025-2026-Equipe-3-scaled.jpg
END:VEVENT
BEGIN:VEVENT
DTSTART;TZID=Europe/Paris:20260127T203000
DTEND;TZID=Europe/Paris:20260127T214500
DTSTAMP:20260423T190718
CREATED:20250924T083539Z
LAST-MODIFIED:20250924T083710Z
UID:2742-1769545800-1769550300@www.badminton-castanet.fr
SUMMARY:Entrainement Adultes Débutants - 27/01/2026
DESCRIPTION:
URL:https://www.badminton-castanet.fr/evenement/entrainement-adultes-debutants-27-01-2026/
CATEGORIES:Entrainements
ATTACH;FMTTYPE=image/jpeg:https://www.badminton-castanet.fr/wp-content/uploads/2025/07/Photo-Benjamin-1.jpg
END:VEVENT
END:VCALENDAR