BEGIN:VCALENDAR
VERSION:2.0
PRODID:-//Badminton Club de Castanet - ECPv6.15.12.2//NONSGML v1.0//EN
CALSCALE:GREGORIAN
METHOD:PUBLISH
X-WR-CALNAME:Badminton Club de Castanet
X-ORIGINAL-URL:https://www.badminton-castanet.fr
X-WR-CALDESC:Évènements pour Badminton Club de Castanet
REFRESH-INTERVAL;VALUE=DURATION:PT1H
X-Robots-Tag:noindex
X-PUBLISHED-TTL:PT1H
BEGIN:VTIMEZONE
TZID:Europe/Paris
BEGIN:DAYLIGHT
TZOFFSETFROM:+0100
TZOFFSETTO:+0200
TZNAME:CEST
DTSTART:20250330T010000
END:DAYLIGHT
BEGIN:STANDARD
TZOFFSETFROM:+0200
TZOFFSETTO:+0100
TZNAME:CET
DTSTART:20251026T010000
END:STANDARD
BEGIN:DAYLIGHT
TZOFFSETFROM:+0100
TZOFFSETTO:+0200
TZNAME:CEST
DTSTART:20260329T010000
END:DAYLIGHT
BEGIN:STANDARD
TZOFFSETFROM:+0200
TZOFFSETTO:+0100
TZNAME:CET
DTSTART:20261025T010000
END:STANDARD
BEGIN:DAYLIGHT
TZOFFSETFROM:+0100
TZOFFSETTO:+0200
TZNAME:CEST
DTSTART:20270328T010000
END:DAYLIGHT
BEGIN:STANDARD
TZOFFSETFROM:+0200
TZOFFSETTO:+0100
TZNAME:CET
DTSTART:20271031T010000
END:STANDARD
END:VTIMEZONE
BEGIN:VEVENT
DTSTART;TZID=Europe/Paris:20260626T120000
DTEND;TZID=Europe/Paris:20260628T190000
DTSTAMP:20260423T174039
CREATED:20260409T135133Z
LAST-MODIFIED:20260409T135133Z
UID:3052-1782475200-1782673200@www.badminton-castanet.fr
SUMMARY:Fête GOELANDGYM - 27/06/2026
DESCRIPTION:Pas de Jeu libre
URL:https://www.badminton-castanet.fr/evenement/fete-goelandgym-27-06-2026/
CATEGORIES:Évènements extérieurs
END:VEVENT
END:VCALENDAR