BEGIN:VCALENDAR
VERSION:2.0
PRODID:-//Badminton Club de Castanet - ECPv6.15.12.2//NONSGML v1.0//EN
CALSCALE:GREGORIAN
METHOD:PUBLISH
X-ORIGINAL-URL:https://www.badminton-castanet.fr
X-WR-CALDESC:Évènements pour Badminton Club de Castanet
REFRESH-INTERVAL;VALUE=DURATION:PT1H
X-Robots-Tag:noindex
X-PUBLISHED-TTL:PT1H
BEGIN:VTIMEZONE
TZID:Europe/Paris
BEGIN:DAYLIGHT
TZOFFSETFROM:+0100
TZOFFSETTO:+0200
TZNAME:CEST
DTSTART:20250330T010000
END:DAYLIGHT
BEGIN:STANDARD
TZOFFSETFROM:+0200
TZOFFSETTO:+0100
TZNAME:CET
DTSTART:20251026T010000
END:STANDARD
BEGIN:DAYLIGHT
TZOFFSETFROM:+0100
TZOFFSETTO:+0200
TZNAME:CEST
DTSTART:20260329T010000
END:DAYLIGHT
BEGIN:STANDARD
TZOFFSETFROM:+0200
TZOFFSETTO:+0100
TZNAME:CET
DTSTART:20261025T010000
END:STANDARD
BEGIN:DAYLIGHT
TZOFFSETFROM:+0100
TZOFFSETTO:+0200
TZNAME:CEST
DTSTART:20270328T010000
END:DAYLIGHT
BEGIN:STANDARD
TZOFFSETFROM:+0200
TZOFFSETTO:+0100
TZNAME:CET
DTSTART:20271031T010000
END:STANDARD
END:VTIMEZONE
BEGIN:VEVENT
DTSTART;TZID=Europe/Paris:20260109T200000
DTEND;TZID=Europe/Paris:20260109T233000
DTSTAMP:20260423T163701
CREATED:20251108T172008Z
LAST-MODIFIED:20251108T172008Z
UID:2939-1767988800-1768001400@www.badminton-castanet.fr
SUMMARY:Interclub EXTÉRIEUR Départemental 2 Équipe 2 - 09/01/2026
DESCRIPTION:Rencontre Interclub de l’équipe 2 en Départemental 2. \nSAINT ORENS
URL:https://www.badminton-castanet.fr/evenement/interclub-exterieur-departemental-2-equipe-2-09-01-2026/
CATEGORIES:Compétitions
ATTACH;FMTTYPE=image/jpeg:https://www.badminton-castanet.fr/wp-content/uploads/2025/10/2025-2026-Equipe-2-scaled.jpg
END:VEVENT
BEGIN:VEVENT
DTSTART;TZID=Europe/Paris:20260111T090000
DTEND;TZID=Europe/Paris:20260111T170000
DTSTAMP:20260423T163701
CREATED:20251103T192840Z
LAST-MODIFIED:20251103T193036Z
UID:2892-1768122000-1768150800@www.badminton-castanet.fr
SUMMARY:Tournoi INTERNE Badminton du Club 11/01/2026
DESCRIPTION:
URL:https://www.badminton-castanet.fr/evenement/tournoi-interne-badminton-du-club-11-01-2026/
CATEGORIES:Compétitions
ATTACH;FMTTYPE=image/svg+xml:https://www.badminton-castanet.fr/wp-content/uploads/2025/07/logo.svg
END:VEVENT
BEGIN:VEVENT
DTSTART;TZID=Europe/Paris:20260113T200000
DTEND;TZID=Europe/Paris:20260113T233000
DTSTAMP:20260423T163701
CREATED:20251020T071910Z
LAST-MODIFIED:20251108T173239Z
UID:2843-1768334400-1768347000@www.badminton-castanet.fr
SUMMARY:Interclub Départemental 2 Équipe 2 - 13/01/2026
DESCRIPTION:Rencontre Interclub de l’équipe 2 en Départemental 2. J5 au Gymnase Jean Jaurès de CASTANET
URL:https://www.badminton-castanet.fr/evenement/interclub-departemental-2-equipe-2-13-01-2026/
LOCATION:Castanet
CATEGORIES:Compétitions
ATTACH;FMTTYPE=image/jpeg:https://www.badminton-castanet.fr/wp-content/uploads/2025/10/2025-2026-Equipe-2-scaled.jpg
END:VEVENT
BEGIN:VEVENT
DTSTART;TZID=Europe/Paris:20260113T200000
DTEND;TZID=Europe/Paris:20260113T233000
DTSTAMP:20260423T163701
CREATED:20251022T093427Z
LAST-MODIFIED:20251108T173155Z
UID:2856-1768334400-1768347000@www.badminton-castanet.fr
SUMMARY:Interclub Départemental 3 Équipe 3 - 13/01/2026
DESCRIPTION:Rencontre Interclub de l’équipe 3 en Départemental 3. J5 au Gymnase Jean Jaurès de CASTANET
URL:https://www.badminton-castanet.fr/evenement/interclub-departemental-3-equipe-3-13-01-2026/
LOCATION:Castanet
CATEGORIES:Compétitions
ATTACH;FMTTYPE=image/jpeg:https://www.badminton-castanet.fr/wp-content/uploads/2025/10/2025-2026-Equipe-3-scaled.jpg
END:VEVENT
BEGIN:VEVENT
DTSTART;VALUE=DATE:20260118
DTEND;VALUE=DATE:20260119
DTSTAMP:20260423T163701
CREATED:20250924T152422Z
LAST-MODIFIED:20250924T152422Z
UID:2810-1768694400-1768780799@www.badminton-castanet.fr
SUMMARY:Interclub Régional R1 - 18/01/2026
DESCRIPTION:
URL:https://www.badminton-castanet.fr/evenement/interclub-regional-r1-18-01-2026/
LOCATION:Castanet
CATEGORIES:Compétitions
ATTACH;FMTTYPE=image/jpeg:https://www.badminton-castanet.fr/wp-content/uploads/2025/09/Logo-Ligue-700x446-1.jpg
END:VEVENT
BEGIN:VEVENT
DTSTART;TZID=Europe/Paris:20260127T200000
DTEND;TZID=Europe/Paris:20260127T233000
DTSTAMP:20260423T163701
CREATED:20251108T172657Z
LAST-MODIFIED:20251108T172657Z
UID:2951-1769544000-1769556600@www.badminton-castanet.fr
SUMMARY:Interclub EXTÉRIEUR Départemental 3 Équipe 3 - 27/01/2026
DESCRIPTION:Rencontre Interclub de l’équipe 3 en Départemental 3. \nBEAUZELLE
URL:https://www.badminton-castanet.fr/evenement/interclub-exterieur-departemental-3-equipe-3-27-01-2026/
LOCATION:Castanet
CATEGORIES:Compétitions
ATTACH;FMTTYPE=image/jpeg:https://www.badminton-castanet.fr/wp-content/uploads/2025/10/2025-2026-Equipe-3-scaled.jpg
END:VEVENT
BEGIN:VEVENT
DTSTART;TZID=Europe/Paris:20260130T200000
DTEND;TZID=Europe/Paris:20260130T233000
DTSTAMP:20260423T163701
CREATED:20251108T172111Z
LAST-MODIFIED:20251108T172111Z
UID:2941-1769803200-1769815800@www.badminton-castanet.fr
SUMMARY:Interclub EXTÉRIEUR Départemental 2 Équipe 2 - 30/01/2026
DESCRIPTION:Rencontre Interclub de l’équipe 2 en Départementa \nVILLEFRANCHE
URL:https://www.badminton-castanet.fr/evenement/interclub-exterieur-departemental-2-equipe-2-30-01-2026/
CATEGORIES:Compétitions
ATTACH;FMTTYPE=image/jpeg:https://www.badminton-castanet.fr/wp-content/uploads/2025/10/2025-2026-Equipe-2-scaled.jpg
END:VEVENT
END:VCALENDAR