BEGIN:VCALENDAR
VERSION:2.0
PRODID:-//Badminton Club de Castanet - ECPv6.15.12.2//NONSGML v1.0//EN
CALSCALE:GREGORIAN
METHOD:PUBLISH
X-WR-CALNAME:Badminton Club de Castanet
X-ORIGINAL-URL:https://www.badminton-castanet.fr
X-WR-CALDESC:Évènements pour Badminton Club de Castanet
REFRESH-INTERVAL;VALUE=DURATION:PT1H
X-Robots-Tag:noindex
X-PUBLISHED-TTL:PT1H
BEGIN:VTIMEZONE
TZID:Europe/Paris
BEGIN:DAYLIGHT
TZOFFSETFROM:+0100
TZOFFSETTO:+0200
TZNAME:CEST
DTSTART:20250330T010000
END:DAYLIGHT
BEGIN:STANDARD
TZOFFSETFROM:+0200
TZOFFSETTO:+0100
TZNAME:CET
DTSTART:20251026T010000
END:STANDARD
BEGIN:DAYLIGHT
TZOFFSETFROM:+0100
TZOFFSETTO:+0200
TZNAME:CEST
DTSTART:20260329T010000
END:DAYLIGHT
BEGIN:STANDARD
TZOFFSETFROM:+0200
TZOFFSETTO:+0100
TZNAME:CET
DTSTART:20261025T010000
END:STANDARD
BEGIN:DAYLIGHT
TZOFFSETFROM:+0100
TZOFFSETTO:+0200
TZNAME:CEST
DTSTART:20270328T010000
END:DAYLIGHT
BEGIN:STANDARD
TZOFFSETFROM:+0200
TZOFFSETTO:+0100
TZNAME:CET
DTSTART:20271031T010000
END:STANDARD
END:VTIMEZONE
BEGIN:VEVENT
DTSTART;VALUE=DATE:20260228
DTEND;VALUE=DATE:20260302
DTSTAMP:20260423T132556
CREATED:20251103T193212Z
LAST-MODIFIED:20251103T193212Z
UID:2894-1772236800-1772409599@www.badminton-castanet.fr
SUMMARY:Tournoi Badminton du Club 28/02/2025 et 01/03/2025
DESCRIPTION:Pas de jeu libre
URL:https://www.badminton-castanet.fr/evenement/tournoi-badminton-du-club-28-02-2025-et-01-03-2025/
CATEGORIES:Compétitions
END:VEVENT
BEGIN:VEVENT
DTSTART;TZID=Europe/Paris:20260310T200000
DTEND;TZID=Europe/Paris:20260310T233000
DTSTAMP:20260423T132556
CREATED:20251020T072235Z
LAST-MODIFIED:20251108T173525Z
UID:2847-1773172800-1773185400@www.badminton-castanet.fr
SUMMARY:Interclub Départemental 2 Équipe 2 – 10/03/2026
DESCRIPTION:Rencontre Interclub de l’équipe 2 en Départemental 2. J8 au Gymnase Jean Jaurès de CASTANET
URL:https://www.badminton-castanet.fr/evenement/interclub-departemental-2-equipe-2-10-03-2026/
LOCATION:Castanet
CATEGORIES:Compétitions
ATTACH;FMTTYPE=image/jpeg:https://www.badminton-castanet.fr/wp-content/uploads/2025/10/2025-2026-Equipe-2-scaled.jpg
END:VEVENT
BEGIN:VEVENT
DTSTART;TZID=Europe/Paris:20260310T200000
DTEND;TZID=Europe/Paris:20260310T233000
DTSTAMP:20260423T132556
CREATED:20251022T093638Z
LAST-MODIFIED:20251108T173441Z
UID:2860-1773172800-1773185400@www.badminton-castanet.fr
SUMMARY:Interclub Départemental 3 Équipe 3 – 10/03/2026
DESCRIPTION:Rencontre Interclub de l’équipe 3 en Départemental 3. J8 au Gymnase Jean Jaurès de CASTANET
URL:https://www.badminton-castanet.fr/evenement/interclub-departemental-3-equipe-3-10-03-2026/
LOCATION:Castanet
CATEGORIES:Compétitions
ATTACH;FMTTYPE=image/jpeg:https://www.badminton-castanet.fr/wp-content/uploads/2025/10/2025-2026-Equipe-3-scaled.jpg
END:VEVENT
BEGIN:VEVENT
DTSTART;VALUE=DATE:20260315
DTEND;VALUE=DATE:20260316
DTSTAMP:20260423T132556
CREATED:20250924T152540Z
LAST-MODIFIED:20250924T152540Z
UID:2813-1773532800-1773619199@www.badminton-castanet.fr
SUMMARY:Interclub Régional R1 - 15/03/2026
DESCRIPTION:
URL:https://www.badminton-castanet.fr/evenement/interclub-regional-r1-15-03-2026/
LOCATION:Montpellier
CATEGORIES:Compétitions
ATTACH;FMTTYPE=image/jpeg:https://www.badminton-castanet.fr/wp-content/uploads/2025/09/Logo-Ligue-700x446-1.jpg
END:VEVENT
BEGIN:VEVENT
DTSTART;TZID=Europe/Paris:20260331T200000
DTEND;TZID=Europe/Paris:20260331T233000
DTSTAMP:20260423T132556
CREATED:20251020T072400Z
LAST-MODIFIED:20251108T173806Z
UID:2849-1774987200-1774999800@www.badminton-castanet.fr
SUMMARY:Interclub Départemental 2 Équipe 2 – 31/03/2026
DESCRIPTION:Rencontre Interclub de l’équipe 2 en Départemental 2. J9 au Gymnase Jean Jaurès de CASTANET
URL:https://www.badminton-castanet.fr/evenement/interclub-departemental-2-equipe-2-31-03-2026/
LOCATION:Castanet
CATEGORIES:Compétitions
ATTACH;FMTTYPE=image/jpeg:https://www.badminton-castanet.fr/wp-content/uploads/2025/10/2025-2026-Equipe-2-scaled.jpg
END:VEVENT
BEGIN:VEVENT
DTSTART;TZID=Europe/Paris:20260331T200000
DTEND;TZID=Europe/Paris:20260331T233000
DTSTAMP:20260423T132556
CREATED:20251022T093722Z
LAST-MODIFIED:20251108T173651Z
UID:2862-1774987200-1774999800@www.badminton-castanet.fr
SUMMARY:Interclub Départemental 3 Équipe 3 – 31/03/2026
DESCRIPTION:Rencontre Interclub de l’équipe 3 en Départemental 3. J9 au Gymnase Jean Jaurès de CASTANET
URL:https://www.badminton-castanet.fr/evenement/interclub-departemental-3-equipe-3-31-03-2026/
LOCATION:Castanet
CATEGORIES:Compétitions
ATTACH;FMTTYPE=image/jpeg:https://www.badminton-castanet.fr/wp-content/uploads/2025/10/2025-2026-Equipe-3-scaled.jpg
END:VEVENT
END:VCALENDAR