BEGIN:VCALENDAR
VERSION:2.0
PRODID:-//Badminton Club de Castanet - ECPv6.15.12.2//NONSGML v1.0//EN
CALSCALE:GREGORIAN
METHOD:PUBLISH
X-WR-CALNAME:Badminton Club de Castanet
X-ORIGINAL-URL:https://www.badminton-castanet.fr
X-WR-CALDESC:Évènements pour Badminton Club de Castanet
REFRESH-INTERVAL;VALUE=DURATION:PT1H
X-Robots-Tag:noindex
X-PUBLISHED-TTL:PT1H
BEGIN:VTIMEZONE
TZID:Europe/Paris
BEGIN:DAYLIGHT
TZOFFSETFROM:+0100
TZOFFSETTO:+0200
TZNAME:CEST
DTSTART:20250330T010000
END:DAYLIGHT
BEGIN:STANDARD
TZOFFSETFROM:+0200
TZOFFSETTO:+0100
TZNAME:CET
DTSTART:20251026T010000
END:STANDARD
BEGIN:DAYLIGHT
TZOFFSETFROM:+0100
TZOFFSETTO:+0200
TZNAME:CEST
DTSTART:20260329T010000
END:DAYLIGHT
BEGIN:STANDARD
TZOFFSETFROM:+0200
TZOFFSETTO:+0100
TZNAME:CET
DTSTART:20261025T010000
END:STANDARD
BEGIN:DAYLIGHT
TZOFFSETFROM:+0100
TZOFFSETTO:+0200
TZNAME:CEST
DTSTART:20270328T010000
END:DAYLIGHT
BEGIN:STANDARD
TZOFFSETFROM:+0200
TZOFFSETTO:+0100
TZNAME:CET
DTSTART:20271031T010000
END:STANDARD
END:VTIMEZONE
BEGIN:VEVENT
DTSTART;TZID=Europe/Paris:20260217T200000
DTEND;TZID=Europe/Paris:20260217T233000
DTSTAMP:20260423T163724
CREATED:20251020T072100Z
LAST-MODIFIED:20251108T173408Z
UID:2845-1771358400-1771371000@www.badminton-castanet.fr
SUMMARY:Interclub Départemental 2 Équipe 2 – 17/02/2026
DESCRIPTION:Rencontre Interclub de l’équipe 2 en Départemental 2. J7 au Gymnase Jean Jaurès de CASTANET
URL:https://www.badminton-castanet.fr/evenement/interclub-departemental-2-equipe-2-17-02-2026/
LOCATION:Castanet
CATEGORIES:Compétitions
ATTACH;FMTTYPE=image/jpeg:https://www.badminton-castanet.fr/wp-content/uploads/2025/10/2025-2026-Equipe-2-scaled.jpg
END:VEVENT
BEGIN:VEVENT
DTSTART;TZID=Europe/Paris:20260217T200000
DTEND;TZID=Europe/Paris:20260217T233000
DTSTAMP:20260423T163724
CREATED:20251022T093529Z
LAST-MODIFIED:20251108T173330Z
UID:2858-1771358400-1771371000@www.badminton-castanet.fr
SUMMARY:Interclub Départemental 3 Équipe 3 – 17/02/2026
DESCRIPTION:Rencontre Interclub de l’équipe 3 en Départemental 3. J7 au Gymnase Jean Jaurès de CASTANET
URL:https://www.badminton-castanet.fr/evenement/interclub-departemental-3-equipe-3-17-02-2026/
LOCATION:Castanet
CATEGORIES:Compétitions
ATTACH;FMTTYPE=image/jpeg:https://www.badminton-castanet.fr/wp-content/uploads/2025/10/2025-2026-Equipe-3-scaled.jpg
END:VEVENT
END:VCALENDAR