BEGIN:VCALENDAR
VERSION:2.0
PRODID:-//Badminton Club de Castanet - ECPv6.15.12.2//NONSGML v1.0//EN
CALSCALE:GREGORIAN
METHOD:PUBLISH
X-WR-CALNAME:Badminton Club de Castanet
X-ORIGINAL-URL:https://www.badminton-castanet.fr
X-WR-CALDESC:Évènements pour Badminton Club de Castanet
REFRESH-INTERVAL;VALUE=DURATION:PT1H
X-Robots-Tag:noindex
X-PUBLISHED-TTL:PT1H
BEGIN:VTIMEZONE
TZID:Europe/Paris
BEGIN:DAYLIGHT
TZOFFSETFROM:+0100
TZOFFSETTO:+0200
TZNAME:CEST
DTSTART:20250330T010000
END:DAYLIGHT
BEGIN:STANDARD
TZOFFSETFROM:+0200
TZOFFSETTO:+0100
TZNAME:CET
DTSTART:20251026T010000
END:STANDARD
BEGIN:DAYLIGHT
TZOFFSETFROM:+0100
TZOFFSETTO:+0200
TZNAME:CEST
DTSTART:20260329T010000
END:DAYLIGHT
BEGIN:STANDARD
TZOFFSETFROM:+0200
TZOFFSETTO:+0100
TZNAME:CET
DTSTART:20261025T010000
END:STANDARD
BEGIN:DAYLIGHT
TZOFFSETFROM:+0100
TZOFFSETTO:+0200
TZNAME:CEST
DTSTART:20270328T010000
END:DAYLIGHT
BEGIN:STANDARD
TZOFFSETFROM:+0200
TZOFFSETTO:+0100
TZNAME:CET
DTSTART:20271031T010000
END:STANDARD
END:VTIMEZONE
BEGIN:VEVENT
DTSTART;VALUE=DATE:20260228
DTEND;VALUE=DATE:20260302
DTSTAMP:20260423T210813
CREATED:20251103T193212Z
LAST-MODIFIED:20251103T193212Z
UID:2894-1772236800-1772409599@www.badminton-castanet.fr
SUMMARY:Tournoi Badminton du Club 28/02/2025 et 01/03/2025
DESCRIPTION:Pas de jeu libre
URL:https://www.badminton-castanet.fr/evenement/tournoi-badminton-du-club-28-02-2025-et-01-03-2025/
CATEGORIES:Compétitions
END:VEVENT
END:VCALENDAR