BEGIN:VCALENDAR
VERSION:2.0
PRODID:-//Badminton Club de Castanet - ECPv6.15.12.2//NONSGML v1.0//EN
CALSCALE:GREGORIAN
METHOD:PUBLISH
X-WR-CALNAME:Badminton Club de Castanet
X-ORIGINAL-URL:https://www.badminton-castanet.fr
X-WR-CALDESC:Évènements pour Badminton Club de Castanet
REFRESH-INTERVAL;VALUE=DURATION:PT1H
X-Robots-Tag:noindex
X-PUBLISHED-TTL:PT1H
BEGIN:VTIMEZONE
TZID:Europe/Paris
BEGIN:DAYLIGHT
TZOFFSETFROM:+0100
TZOFFSETTO:+0200
TZNAME:CEST
DTSTART:20240331T010000
END:DAYLIGHT
BEGIN:STANDARD
TZOFFSETFROM:+0200
TZOFFSETTO:+0100
TZNAME:CET
DTSTART:20241027T010000
END:STANDARD
BEGIN:DAYLIGHT
TZOFFSETFROM:+0100
TZOFFSETTO:+0200
TZNAME:CEST
DTSTART:20250330T010000
END:DAYLIGHT
BEGIN:STANDARD
TZOFFSETFROM:+0200
TZOFFSETTO:+0100
TZNAME:CET
DTSTART:20251026T010000
END:STANDARD
BEGIN:DAYLIGHT
TZOFFSETFROM:+0100
TZOFFSETTO:+0200
TZNAME:CEST
DTSTART:20260329T010000
END:DAYLIGHT
BEGIN:STANDARD
TZOFFSETFROM:+0200
TZOFFSETTO:+0100
TZNAME:CET
DTSTART:20261025T010000
END:STANDARD
END:VTIMEZONE
BEGIN:VEVENT
DTSTART;TZID=Europe/Paris:20251104T173000
DTEND;TZID=Europe/Paris:20251104T190000
DTSTAMP:20260424T031519
CREATED:20250911T120014Z
LAST-MODIFIED:20250924T083155Z
UID:1446-1762277400-1762282800@www.badminton-castanet.fr
SUMMARY:Entrainement Jeunes - 04/11/2025
DESCRIPTION:
URL:https://www.badminton-castanet.fr/evenement/entrainement-jeunes-04-11-2025/
CATEGORIES:Entrainements
ATTACH;FMTTYPE=image/jpeg:https://www.badminton-castanet.fr/wp-content/uploads/2025/07/Photo-Benjamin-1.jpg
END:VEVENT
BEGIN:VEVENT
DTSTART;TZID=Europe/Paris:20251104T190000
DTEND;TZID=Europe/Paris:20251104T203000
DTSTAMP:20260424T031519
CREATED:20250911T120109Z
LAST-MODIFIED:20250924T083430Z
UID:1463-1762282800-1762288200@www.badminton-castanet.fr
SUMMARY:Entrainement Ados - 04/11/2025
DESCRIPTION:
URL:https://www.badminton-castanet.fr/evenement/entrainements-ados-04-11-2025/
CATEGORIES:Entrainements
ATTACH;FMTTYPE=image/jpeg:https://www.badminton-castanet.fr/wp-content/uploads/2025/07/Photo-Benjamin-1.jpg
END:VEVENT
BEGIN:VEVENT
DTSTART;TZID=Europe/Paris:20251104T203000
DTEND;TZID=Europe/Paris:20251104T214500
DTSTAMP:20260424T031519
CREATED:20250911T120201Z
LAST-MODIFIED:20250924T083711Z
UID:1480-1762288200-1762292700@www.badminton-castanet.fr
SUMMARY:Entrainement Adultes Débutants - 04/11/2025
DESCRIPTION:
URL:https://www.badminton-castanet.fr/evenement/entrainements-adultes-debutants-04-11-2025/
CATEGORIES:Entrainements
ATTACH;FMTTYPE=image/jpeg:https://www.badminton-castanet.fr/wp-content/uploads/2025/07/Photo-Benjamin.jpg
END:VEVENT
BEGIN:VEVENT
DTSTART;TZID=Europe/Paris:20251106T170000
DTEND;TZID=Europe/Paris:20251106T183000
DTSTAMP:20260424T031519
CREATED:20250911T120313Z
LAST-MODIFIED:20250924T082453Z
UID:1497-1762448400-1762453800@www.badminton-castanet.fr
SUMMARY:Entrainement Mini-Bad - 06/11/2025
DESCRIPTION:
URL:https://www.badminton-castanet.fr/evenement/entrainement-mini-bad-06-11-2025/
CATEGORIES:Entrainements
ATTACH;FMTTYPE=image/jpeg:https://www.badminton-castanet.fr/wp-content/uploads/2025/07/Photo-Benjamin.jpg
END:VEVENT
BEGIN:VEVENT
DTSTART;TZID=Europe/Paris:20251106T170000
DTEND;TZID=Europe/Paris:20251106T183000
DTSTAMP:20260424T031519
CREATED:20250911T120400Z
LAST-MODIFIED:20250924T082006Z
UID:1514-1762448400-1762453800@www.badminton-castanet.fr
SUMMARY:Entrainement Para-Bad - 06/11/2025
DESCRIPTION:
URL:https://www.badminton-castanet.fr/evenement/entrainement-para-bad-06-11-2025/
CATEGORIES:Entrainements
ATTACH;FMTTYPE=image/jpeg:https://www.badminton-castanet.fr/wp-content/uploads/2025/07/Photo-Benjamin-1.jpg
END:VEVENT
BEGIN:VEVENT
DTSTART;TZID=Europe/Paris:20251106T201500
DTEND;TZID=Europe/Paris:20251106T213000
DTSTAMP:20260424T031519
CREATED:20250911T120630Z
LAST-MODIFIED:20250924T073813Z
UID:1548-1762460100-1762464600@www.badminton-castanet.fr
SUMMARY:Entrainement Adultes confirmés - 06/11/2025
DESCRIPTION:
URL:https://www.badminton-castanet.fr/evenement/entrainements-adultes-confirmes-06-11-2025/
CATEGORIES:Entrainements
ATTACH;FMTTYPE=image/jpeg:https://www.badminton-castanet.fr/wp-content/uploads/2025/07/Photo-Benjamin.jpg
END:VEVENT
BEGIN:VEVENT
DTSTART;TZID=Europe/Paris:20251106T213000
DTEND;TZID=Europe/Paris:20251106T224500
DTSTAMP:20260424T031519
CREATED:20250911T120528Z
LAST-MODIFIED:20250924T081304Z
UID:1531-1762464600-1762469100@www.badminton-castanet.fr
SUMMARY:Entrainement Adultes Intermédiaires - 06/11/2025
DESCRIPTION:
URL:https://www.badminton-castanet.fr/evenement/entrainements-adultes-intermediaires-06-11-2025/
CATEGORIES:Entrainements
END:VEVENT
BEGIN:VEVENT
DTSTART;TZID=Europe/Paris:20251113T170000
DTEND;TZID=Europe/Paris:20251113T183000
DTSTAMP:20260424T031519
CREATED:20250911T120313Z
LAST-MODIFIED:20250924T082453Z
UID:1498-1763053200-1763058600@www.badminton-castanet.fr
SUMMARY:Entrainement Mini-Bad - 13/11/2025
DESCRIPTION:
URL:https://www.badminton-castanet.fr/evenement/entrainement-mini-bad-13-11-2025/
CATEGORIES:Entrainements
ATTACH;FMTTYPE=image/jpeg:https://www.badminton-castanet.fr/wp-content/uploads/2025/07/Photo-Benjamin.jpg
END:VEVENT
BEGIN:VEVENT
DTSTART;TZID=Europe/Paris:20251113T170000
DTEND;TZID=Europe/Paris:20251113T183000
DTSTAMP:20260424T031519
CREATED:20250911T120400Z
LAST-MODIFIED:20250924T082006Z
UID:1515-1763053200-1763058600@www.badminton-castanet.fr
SUMMARY:Entrainement Para-Bad - 13/11/2025
DESCRIPTION:
URL:https://www.badminton-castanet.fr/evenement/entrainement-para-bad-13-11-2025/
CATEGORIES:Entrainements
ATTACH;FMTTYPE=image/jpeg:https://www.badminton-castanet.fr/wp-content/uploads/2025/07/Photo-Benjamin-1.jpg
END:VEVENT
BEGIN:VEVENT
DTSTART;TZID=Europe/Paris:20251113T201500
DTEND;TZID=Europe/Paris:20251113T213000
DTSTAMP:20260424T031519
CREATED:20250911T120630Z
LAST-MODIFIED:20250924T073813Z
UID:1549-1763064900-1763069400@www.badminton-castanet.fr
SUMMARY:Entrainement Adultes confirmés - 13/11/2025
DESCRIPTION:
URL:https://www.badminton-castanet.fr/evenement/entrainements-adultes-confirmes-13-11-2025/
CATEGORIES:Entrainements
ATTACH;FMTTYPE=image/jpeg:https://www.badminton-castanet.fr/wp-content/uploads/2025/07/Photo-Benjamin.jpg
END:VEVENT
BEGIN:VEVENT
DTSTART;TZID=Europe/Paris:20251113T213000
DTEND;TZID=Europe/Paris:20251113T224500
DTSTAMP:20260424T031519
CREATED:20250911T120528Z
LAST-MODIFIED:20250924T081304Z
UID:1532-1763069400-1763073900@www.badminton-castanet.fr
SUMMARY:Entrainement Adultes Intermédiaires - 13/11/2025
DESCRIPTION:
URL:https://www.badminton-castanet.fr/evenement/entrainements-adultes-intermediaires-13-11-2025/
CATEGORIES:Entrainements
END:VEVENT
BEGIN:VEVENT
DTSTART;TZID=Europe/Paris:20251118T173000
DTEND;TZID=Europe/Paris:20251118T190000
DTSTAMP:20260424T031519
CREATED:20250911T120014Z
LAST-MODIFIED:20250924T083155Z
UID:1448-1763487000-1763492400@www.badminton-castanet.fr
SUMMARY:Entrainement Jeunes - 18/11/2025
DESCRIPTION:
URL:https://www.badminton-castanet.fr/evenement/entrainement-jeunes-18-11-2025/
CATEGORIES:Entrainements
ATTACH;FMTTYPE=image/jpeg:https://www.badminton-castanet.fr/wp-content/uploads/2025/07/Photo-Benjamin-1.jpg
END:VEVENT
BEGIN:VEVENT
DTSTART;TZID=Europe/Paris:20251118T190000
DTEND;TZID=Europe/Paris:20251118T203000
DTSTAMP:20260424T031519
CREATED:20250911T120109Z
LAST-MODIFIED:20250924T083430Z
UID:1465-1763492400-1763497800@www.badminton-castanet.fr
SUMMARY:Entrainement Ados - 18/11/2025
DESCRIPTION:
URL:https://www.badminton-castanet.fr/evenement/entrainements-ados-18-11-2025/
CATEGORIES:Entrainements
ATTACH;FMTTYPE=image/jpeg:https://www.badminton-castanet.fr/wp-content/uploads/2025/07/Photo-Benjamin-1.jpg
END:VEVENT
BEGIN:VEVENT
DTSTART;TZID=Europe/Paris:20251118T203000
DTEND;TZID=Europe/Paris:20251118T214500
DTSTAMP:20260424T031519
CREATED:20250911T120201Z
LAST-MODIFIED:20250924T083710Z
UID:1482-1763497800-1763502300@www.badminton-castanet.fr
SUMMARY:Entrainement Adultes Débutants - 18/11/2025
DESCRIPTION:
URL:https://www.badminton-castanet.fr/evenement/entrainements-adultes-debutants-18-11-2025/
CATEGORIES:Entrainements
ATTACH;FMTTYPE=image/jpeg:https://www.badminton-castanet.fr/wp-content/uploads/2025/07/Photo-Benjamin.jpg
END:VEVENT
BEGIN:VEVENT
DTSTART;TZID=Europe/Paris:20251120T170000
DTEND;TZID=Europe/Paris:20251120T183000
DTSTAMP:20260424T031519
CREATED:20250911T120313Z
LAST-MODIFIED:20250924T082453Z
UID:1499-1763658000-1763663400@www.badminton-castanet.fr
SUMMARY:Entrainement Mini-Bad - 20/11/2025
DESCRIPTION:
URL:https://www.badminton-castanet.fr/evenement/entrainement-mini-bad-20-11-2025/
CATEGORIES:Entrainements
ATTACH;FMTTYPE=image/jpeg:https://www.badminton-castanet.fr/wp-content/uploads/2025/07/Photo-Benjamin.jpg
END:VEVENT
BEGIN:VEVENT
DTSTART;TZID=Europe/Paris:20251120T170000
DTEND;TZID=Europe/Paris:20251120T183000
DTSTAMP:20260424T031519
CREATED:20250911T120400Z
LAST-MODIFIED:20250924T082006Z
UID:1516-1763658000-1763663400@www.badminton-castanet.fr
SUMMARY:Entrainement Para-Bad - 20/11/2025
DESCRIPTION:
URL:https://www.badminton-castanet.fr/evenement/entrainement-para-bad-20-11-2025/
CATEGORIES:Entrainements
ATTACH;FMTTYPE=image/jpeg:https://www.badminton-castanet.fr/wp-content/uploads/2025/07/Photo-Benjamin-1.jpg
END:VEVENT
BEGIN:VEVENT
DTSTART;TZID=Europe/Paris:20251120T201500
DTEND;TZID=Europe/Paris:20251120T213000
DTSTAMP:20260424T031519
CREATED:20250911T120630Z
LAST-MODIFIED:20250924T074824Z
UID:1550-1763669700-1763674200@www.badminton-castanet.fr
SUMMARY:Entrainement Adultes confirmés - 20/11/2025
DESCRIPTION:
URL:https://www.badminton-castanet.fr/evenement/entrainements-adultes-confirmes-20-11-2025/
CATEGORIES:Entrainements
ATTACH;FMTTYPE=image/jpeg:https://www.badminton-castanet.fr/wp-content/uploads/2025/07/Photo-Benjamin.jpg
END:VEVENT
BEGIN:VEVENT
DTSTART;TZID=Europe/Paris:20251120T213000
DTEND;TZID=Europe/Paris:20251120T224500
DTSTAMP:20260424T031519
CREATED:20250911T120528Z
LAST-MODIFIED:20250924T081304Z
UID:1533-1763674200-1763678700@www.badminton-castanet.fr
SUMMARY:Entrainement Adultes Intermédiaires - 20/11/2025
DESCRIPTION:
URL:https://www.badminton-castanet.fr/evenement/entrainements-adultes-intermediaires-20-11-2025/
CATEGORIES:Entrainements
END:VEVENT
BEGIN:VEVENT
DTSTART;TZID=Europe/Paris:20251125T173000
DTEND;TZID=Europe/Paris:20251125T190000
DTSTAMP:20260424T031519
CREATED:20250911T120014Z
LAST-MODIFIED:20250924T083155Z
UID:1449-1764091800-1764097200@www.badminton-castanet.fr
SUMMARY:Entrainement Jeunes - 25/11/2025
DESCRIPTION:
URL:https://www.badminton-castanet.fr/evenement/entrainement-jeunes-25-11-2025/
CATEGORIES:Entrainements
ATTACH;FMTTYPE=image/jpeg:https://www.badminton-castanet.fr/wp-content/uploads/2025/07/Photo-Benjamin-1.jpg
END:VEVENT
BEGIN:VEVENT
DTSTART;TZID=Europe/Paris:20251125T190000
DTEND;TZID=Europe/Paris:20251125T203000
DTSTAMP:20260424T031519
CREATED:20250911T120109Z
LAST-MODIFIED:20250924T083430Z
UID:1466-1764097200-1764102600@www.badminton-castanet.fr
SUMMARY:Entrainement Ados - 25/11/2025
DESCRIPTION:
URL:https://www.badminton-castanet.fr/evenement/entrainements-ados-25-11-2025/
CATEGORIES:Entrainements
ATTACH;FMTTYPE=image/jpeg:https://www.badminton-castanet.fr/wp-content/uploads/2025/07/Photo-Benjamin-1.jpg
END:VEVENT
BEGIN:VEVENT
DTSTART;TZID=Europe/Paris:20251125T203000
DTEND;TZID=Europe/Paris:20251125T214500
DTSTAMP:20260424T031519
CREATED:20250911T120201Z
LAST-MODIFIED:20250924T083710Z
UID:1483-1764102600-1764107100@www.badminton-castanet.fr
SUMMARY:Entrainement Adultes Débutants - 25/11/2025
DESCRIPTION:
URL:https://www.badminton-castanet.fr/evenement/entrainements-adultes-debutants-25-11-2025/
CATEGORIES:Entrainements
ATTACH;FMTTYPE=image/jpeg:https://www.badminton-castanet.fr/wp-content/uploads/2025/07/Photo-Benjamin.jpg
END:VEVENT
BEGIN:VEVENT
DTSTART;TZID=Europe/Paris:20251127T170000
DTEND;TZID=Europe/Paris:20251127T183000
DTSTAMP:20260424T031519
CREATED:20250911T120313Z
LAST-MODIFIED:20250924T082453Z
UID:1500-1764262800-1764268200@www.badminton-castanet.fr
SUMMARY:Entrainement Mini-Bad - 27/11/2025
DESCRIPTION:
URL:https://www.badminton-castanet.fr/evenement/entrainement-mini-bad-27-11-2025/
CATEGORIES:Entrainements
ATTACH;FMTTYPE=image/jpeg:https://www.badminton-castanet.fr/wp-content/uploads/2025/07/Photo-Benjamin.jpg
END:VEVENT
BEGIN:VEVENT
DTSTART;TZID=Europe/Paris:20251127T170000
DTEND;TZID=Europe/Paris:20251127T183000
DTSTAMP:20260424T031519
CREATED:20250911T120400Z
LAST-MODIFIED:20250924T082006Z
UID:1517-1764262800-1764268200@www.badminton-castanet.fr
SUMMARY:Entrainement Para-Bad - 27/11/2025
DESCRIPTION:
URL:https://www.badminton-castanet.fr/evenement/entrainement-para-bad-27-11-2025/
CATEGORIES:Entrainements
ATTACH;FMTTYPE=image/jpeg:https://www.badminton-castanet.fr/wp-content/uploads/2025/07/Photo-Benjamin-1.jpg
END:VEVENT
BEGIN:VEVENT
DTSTART;TZID=Europe/Paris:20251127T201500
DTEND;TZID=Europe/Paris:20251127T213000
DTSTAMP:20260424T031519
CREATED:20250911T120630Z
LAST-MODIFIED:20250924T074824Z
UID:1551-1764274500-1764279000@www.badminton-castanet.fr
SUMMARY:Entrainement Adultes confirmés - 27/11/2025
DESCRIPTION:
URL:https://www.badminton-castanet.fr/evenement/entrainements-adultes-confirmes-27-11-2025/
CATEGORIES:Entrainements
ATTACH;FMTTYPE=image/jpeg:https://www.badminton-castanet.fr/wp-content/uploads/2025/07/Photo-Benjamin.jpg
END:VEVENT
BEGIN:VEVENT
DTSTART;TZID=Europe/Paris:20251127T213000
DTEND;TZID=Europe/Paris:20251127T224500
DTSTAMP:20260424T031519
CREATED:20250911T120528Z
LAST-MODIFIED:20250924T081304Z
UID:1534-1764279000-1764283500@www.badminton-castanet.fr
SUMMARY:Entrainement Adultes Intermédiaires - 27/11/2025
DESCRIPTION:
URL:https://www.badminton-castanet.fr/evenement/entrainements-adultes-intermediaires-27-11-2025/
CATEGORIES:Entrainements
END:VEVENT
END:VCALENDAR