BEGIN:VCALENDAR
VERSION:2.0
PRODID:-//Badminton Club de Castanet - ECPv6.15.12.2//NONSGML v1.0//EN
CALSCALE:GREGORIAN
METHOD:PUBLISH
X-WR-CALNAME:Badminton Club de Castanet
X-ORIGINAL-URL:https://www.badminton-castanet.fr
X-WR-CALDESC:Évènements pour Badminton Club de Castanet
REFRESH-INTERVAL;VALUE=DURATION:PT1H
X-Robots-Tag:noindex
X-PUBLISHED-TTL:PT1H
BEGIN:VTIMEZONE
TZID:Europe/Paris
BEGIN:DAYLIGHT
TZOFFSETFROM:+0100
TZOFFSETTO:+0200
TZNAME:CEST
DTSTART:20240331T010000
END:DAYLIGHT
BEGIN:STANDARD
TZOFFSETFROM:+0200
TZOFFSETTO:+0100
TZNAME:CET
DTSTART:20241027T010000
END:STANDARD
BEGIN:DAYLIGHT
TZOFFSETFROM:+0100
TZOFFSETTO:+0200
TZNAME:CEST
DTSTART:20250330T010000
END:DAYLIGHT
BEGIN:STANDARD
TZOFFSETFROM:+0200
TZOFFSETTO:+0100
TZNAME:CET
DTSTART:20251026T010000
END:STANDARD
BEGIN:DAYLIGHT
TZOFFSETFROM:+0100
TZOFFSETTO:+0200
TZNAME:CEST
DTSTART:20260329T010000
END:DAYLIGHT
BEGIN:STANDARD
TZOFFSETFROM:+0200
TZOFFSETTO:+0100
TZNAME:CET
DTSTART:20261025T010000
END:STANDARD
END:VTIMEZONE
BEGIN:VEVENT
DTSTART;TZID=Europe/Paris:20251202T173000
DTEND;TZID=Europe/Paris:20251202T190000
DTSTAMP:20260424T013421
CREATED:20250911T120014Z
LAST-MODIFIED:20250924T083155Z
UID:1450-1764696600-1764702000@www.badminton-castanet.fr
SUMMARY:Entrainement Jeunes - 02/12/2025
DESCRIPTION:
URL:https://www.badminton-castanet.fr/evenement/entrainement-jeunes-02-12-2025/
CATEGORIES:Entrainements
ATTACH;FMTTYPE=image/jpeg:https://www.badminton-castanet.fr/wp-content/uploads/2025/07/Photo-Benjamin-1.jpg
END:VEVENT
BEGIN:VEVENT
DTSTART;TZID=Europe/Paris:20251202T190000
DTEND;TZID=Europe/Paris:20251202T203000
DTSTAMP:20260424T013421
CREATED:20250911T120109Z
LAST-MODIFIED:20250924T083430Z
UID:1467-1764702000-1764707400@www.badminton-castanet.fr
SUMMARY:Entrainement Ados - 02/12/2025
DESCRIPTION:
URL:https://www.badminton-castanet.fr/evenement/entrainements-ados-02-12-2025/
CATEGORIES:Entrainements
ATTACH;FMTTYPE=image/jpeg:https://www.badminton-castanet.fr/wp-content/uploads/2025/07/Photo-Benjamin-1.jpg
END:VEVENT
BEGIN:VEVENT
DTSTART;TZID=Europe/Paris:20251202T203000
DTEND;TZID=Europe/Paris:20251202T214500
DTSTAMP:20260424T013421
CREATED:20250911T120201Z
LAST-MODIFIED:20250924T083710Z
UID:1484-1764707400-1764711900@www.badminton-castanet.fr
SUMMARY:Entrainement Adultes Débutants - 02/12/2025
DESCRIPTION:
URL:https://www.badminton-castanet.fr/evenement/entrainements-adultes-debutants-02-12-2025/
CATEGORIES:Entrainements
ATTACH;FMTTYPE=image/jpeg:https://www.badminton-castanet.fr/wp-content/uploads/2025/07/Photo-Benjamin.jpg
END:VEVENT
BEGIN:VEVENT
DTSTART;TZID=Europe/Paris:20251204T170000
DTEND;TZID=Europe/Paris:20251204T183000
DTSTAMP:20260424T013421
CREATED:20250911T120313Z
LAST-MODIFIED:20250924T082453Z
UID:1501-1764867600-1764873000@www.badminton-castanet.fr
SUMMARY:Entrainement Mini-Bad - 04/12/2025
DESCRIPTION:
URL:https://www.badminton-castanet.fr/evenement/entrainement-mini-bad-04-12-2025/
CATEGORIES:Entrainements
ATTACH;FMTTYPE=image/jpeg:https://www.badminton-castanet.fr/wp-content/uploads/2025/07/Photo-Benjamin.jpg
END:VEVENT
BEGIN:VEVENT
DTSTART;TZID=Europe/Paris:20251204T170000
DTEND;TZID=Europe/Paris:20251204T183000
DTSTAMP:20260424T013421
CREATED:20250911T120400Z
LAST-MODIFIED:20250924T082006Z
UID:1518-1764867600-1764873000@www.badminton-castanet.fr
SUMMARY:Entrainement Para-Bad - 04/12/2025
DESCRIPTION:
URL:https://www.badminton-castanet.fr/evenement/entrainement-para-bad-04-12-2025/
CATEGORIES:Entrainements
ATTACH;FMTTYPE=image/jpeg:https://www.badminton-castanet.fr/wp-content/uploads/2025/07/Photo-Benjamin-1.jpg
END:VEVENT
BEGIN:VEVENT
DTSTART;TZID=Europe/Paris:20251204T201500
DTEND;TZID=Europe/Paris:20251204T213000
DTSTAMP:20260424T013421
CREATED:20250911T120630Z
LAST-MODIFIED:20250924T073813Z
UID:1552-1764879300-1764883800@www.badminton-castanet.fr
SUMMARY:Entrainement Adultes confirmés - 04/12/2025
DESCRIPTION:
URL:https://www.badminton-castanet.fr/evenement/entrainements-adultes-confirmes-04-12-2025/
CATEGORIES:Entrainements
ATTACH;FMTTYPE=image/jpeg:https://www.badminton-castanet.fr/wp-content/uploads/2025/07/Photo-Benjamin.jpg
END:VEVENT
BEGIN:VEVENT
DTSTART;TZID=Europe/Paris:20251204T213000
DTEND;TZID=Europe/Paris:20251204T224500
DTSTAMP:20260424T013421
CREATED:20250911T120528Z
LAST-MODIFIED:20250924T081304Z
UID:1535-1764883800-1764888300@www.badminton-castanet.fr
SUMMARY:Entrainement Adultes Intermédiaires - 04/12/2025
DESCRIPTION:
URL:https://www.badminton-castanet.fr/evenement/entrainements-adultes-intermediaires-04-12-2025/
CATEGORIES:Entrainements
END:VEVENT
BEGIN:VEVENT
DTSTART;TZID=Europe/Paris:20251209T173000
DTEND;TZID=Europe/Paris:20251209T190000
DTSTAMP:20260424T013421
CREATED:20250911T120014Z
LAST-MODIFIED:20250924T083155Z
UID:1451-1765301400-1765306800@www.badminton-castanet.fr
SUMMARY:Entrainement Jeunes - 09/12/2025
DESCRIPTION:
URL:https://www.badminton-castanet.fr/evenement/entrainement-jeunes-09-12-2025/
CATEGORIES:Entrainements
ATTACH;FMTTYPE=image/jpeg:https://www.badminton-castanet.fr/wp-content/uploads/2025/07/Photo-Benjamin-1.jpg
END:VEVENT
BEGIN:VEVENT
DTSTART;TZID=Europe/Paris:20251209T190000
DTEND;TZID=Europe/Paris:20251209T203000
DTSTAMP:20260424T013421
CREATED:20250911T120109Z
LAST-MODIFIED:20250924T083430Z
UID:1468-1765306800-1765312200@www.badminton-castanet.fr
SUMMARY:Entrainement Ados - 09/12/2025
DESCRIPTION:
URL:https://www.badminton-castanet.fr/evenement/entrainements-ados-09-12-2025/
CATEGORIES:Entrainements
ATTACH;FMTTYPE=image/jpeg:https://www.badminton-castanet.fr/wp-content/uploads/2025/07/Photo-Benjamin-1.jpg
END:VEVENT
BEGIN:VEVENT
DTSTART;TZID=Europe/Paris:20251209T203000
DTEND;TZID=Europe/Paris:20251209T214500
DTSTAMP:20260424T013421
CREATED:20250911T120201Z
LAST-MODIFIED:20250924T083710Z
UID:1485-1765312200-1765316700@www.badminton-castanet.fr
SUMMARY:Entrainement Adultes Débutants - 09/12/2025
DESCRIPTION:
URL:https://www.badminton-castanet.fr/evenement/entrainements-adultes-debutants-09-12-2025/
CATEGORIES:Entrainements
ATTACH;FMTTYPE=image/jpeg:https://www.badminton-castanet.fr/wp-content/uploads/2025/07/Photo-Benjamin.jpg
END:VEVENT
BEGIN:VEVENT
DTSTART;TZID=Europe/Paris:20251211T170000
DTEND;TZID=Europe/Paris:20251211T183000
DTSTAMP:20260424T013421
CREATED:20250911T120313Z
LAST-MODIFIED:20250924T082453Z
UID:1502-1765472400-1765477800@www.badminton-castanet.fr
SUMMARY:Entrainement Mini-Bad - 11/12/2025
DESCRIPTION:
URL:https://www.badminton-castanet.fr/evenement/entrainement-mini-bad-11-12-2025/
CATEGORIES:Entrainements
ATTACH;FMTTYPE=image/jpeg:https://www.badminton-castanet.fr/wp-content/uploads/2025/07/Photo-Benjamin.jpg
END:VEVENT
BEGIN:VEVENT
DTSTART;TZID=Europe/Paris:20251211T170000
DTEND;TZID=Europe/Paris:20251211T183000
DTSTAMP:20260424T013421
CREATED:20250911T120400Z
LAST-MODIFIED:20250924T082006Z
UID:1519-1765472400-1765477800@www.badminton-castanet.fr
SUMMARY:Entrainement Para-Bad - 11/12/2025
DESCRIPTION:
URL:https://www.badminton-castanet.fr/evenement/entrainement-para-bad-11-12-2025/
CATEGORIES:Entrainements
ATTACH;FMTTYPE=image/jpeg:https://www.badminton-castanet.fr/wp-content/uploads/2025/07/Photo-Benjamin-1.jpg
END:VEVENT
BEGIN:VEVENT
DTSTART;TZID=Europe/Paris:20251211T201500
DTEND;TZID=Europe/Paris:20251211T213000
DTSTAMP:20260424T013421
CREATED:20250911T120630Z
LAST-MODIFIED:20250924T073813Z
UID:1553-1765484100-1765488600@www.badminton-castanet.fr
SUMMARY:Entrainement Adultes confirmés - 11/12/2025
DESCRIPTION:
URL:https://www.badminton-castanet.fr/evenement/entrainements-adultes-confirmes-11-12-2025/
CATEGORIES:Entrainements
ATTACH;FMTTYPE=image/jpeg:https://www.badminton-castanet.fr/wp-content/uploads/2025/07/Photo-Benjamin.jpg
END:VEVENT
BEGIN:VEVENT
DTSTART;TZID=Europe/Paris:20251211T213000
DTEND;TZID=Europe/Paris:20251211T224500
DTSTAMP:20260424T013421
CREATED:20250911T120528Z
LAST-MODIFIED:20250924T081304Z
UID:1536-1765488600-1765493100@www.badminton-castanet.fr
SUMMARY:Entrainement Adultes Intermédiaires - 11/12/2025
DESCRIPTION:
URL:https://www.badminton-castanet.fr/evenement/entrainements-adultes-intermediaires-11-12-2025/
CATEGORIES:Entrainements
END:VEVENT
BEGIN:VEVENT
DTSTART;TZID=Europe/Paris:20251216T173000
DTEND;TZID=Europe/Paris:20251216T190000
DTSTAMP:20260424T013421
CREATED:20250911T120014Z
LAST-MODIFIED:20250924T083155Z
UID:1452-1765906200-1765911600@www.badminton-castanet.fr
SUMMARY:Entrainement Jeunes - 16/12/2025
DESCRIPTION:
URL:https://www.badminton-castanet.fr/evenement/entrainement-jeunes-16-12-2025/
CATEGORIES:Entrainements
ATTACH;FMTTYPE=image/jpeg:https://www.badminton-castanet.fr/wp-content/uploads/2025/07/Photo-Benjamin-1.jpg
END:VEVENT
BEGIN:VEVENT
DTSTART;TZID=Europe/Paris:20251216T190000
DTEND;TZID=Europe/Paris:20251216T203000
DTSTAMP:20260424T013421
CREATED:20250911T120109Z
LAST-MODIFIED:20250924T083430Z
UID:1469-1765911600-1765917000@www.badminton-castanet.fr
SUMMARY:Entrainement Ados - 16/12/2025
DESCRIPTION:
URL:https://www.badminton-castanet.fr/evenement/entrainements-ados-16-12-2025/
CATEGORIES:Entrainements
ATTACH;FMTTYPE=image/jpeg:https://www.badminton-castanet.fr/wp-content/uploads/2025/07/Photo-Benjamin-1.jpg
END:VEVENT
BEGIN:VEVENT
DTSTART;TZID=Europe/Paris:20251216T203000
DTEND;TZID=Europe/Paris:20251216T214500
DTSTAMP:20260424T013421
CREATED:20250911T120201Z
LAST-MODIFIED:20250924T083710Z
UID:1486-1765917000-1765921500@www.badminton-castanet.fr
SUMMARY:Entrainement Adultes Débutants - 16/12/2025
DESCRIPTION:
URL:https://www.badminton-castanet.fr/evenement/entrainements-adultes-debutants-16-12-2025/
CATEGORIES:Entrainements
ATTACH;FMTTYPE=image/jpeg:https://www.badminton-castanet.fr/wp-content/uploads/2025/07/Photo-Benjamin.jpg
END:VEVENT
BEGIN:VEVENT
DTSTART;TZID=Europe/Paris:20251218T170000
DTEND;TZID=Europe/Paris:20251218T183000
DTSTAMP:20260424T013421
CREATED:20250911T120313Z
LAST-MODIFIED:20250924T082418Z
UID:1503-1766077200-1766082600@www.badminton-castanet.fr
SUMMARY:Entrainement Mini-Bad - 18/12/2025
DESCRIPTION:
URL:https://www.badminton-castanet.fr/evenement/entrainement-mini-bad-18-12-2025/
CATEGORIES:Entrainements
ATTACH;FMTTYPE=image/jpeg:https://www.badminton-castanet.fr/wp-content/uploads/2025/07/Photo-Benjamin.jpg
END:VEVENT
BEGIN:VEVENT
DTSTART;TZID=Europe/Paris:20251218T170000
DTEND;TZID=Europe/Paris:20251218T183000
DTSTAMP:20260424T013421
CREATED:20250911T120400Z
LAST-MODIFIED:20250924T081942Z
UID:1520-1766077200-1766082600@www.badminton-castanet.fr
SUMMARY:Entrainement Para-Bad - 18/12/2025
DESCRIPTION:
URL:https://www.badminton-castanet.fr/evenement/entrainement-para-bad-18-12-2025/
CATEGORIES:Entrainements
ATTACH;FMTTYPE=image/jpeg:https://www.badminton-castanet.fr/wp-content/uploads/2025/07/Photo-Benjamin-1.jpg
END:VEVENT
BEGIN:VEVENT
DTSTART;TZID=Europe/Paris:20251218T201500
DTEND;TZID=Europe/Paris:20251218T213000
DTSTAMP:20260424T013421
CREATED:20250911T120630Z
LAST-MODIFIED:20250924T074824Z
UID:1554-1766088900-1766093400@www.badminton-castanet.fr
SUMMARY:Entrainement Adultes confirmés - 18/12/2025
DESCRIPTION:
URL:https://www.badminton-castanet.fr/evenement/entrainements-adultes-confirmes-18-12-2025/
CATEGORIES:Entrainements
ATTACH;FMTTYPE=image/jpeg:https://www.badminton-castanet.fr/wp-content/uploads/2025/07/Photo-Benjamin.jpg
END:VEVENT
BEGIN:VEVENT
DTSTART;TZID=Europe/Paris:20251218T213000
DTEND;TZID=Europe/Paris:20251218T224500
DTSTAMP:20260424T013421
CREATED:20250911T120528Z
LAST-MODIFIED:20250924T081304Z
UID:1537-1766093400-1766097900@www.badminton-castanet.fr
SUMMARY:Entrainement Adultes Intermédiaires - 18/12/2025
DESCRIPTION:
URL:https://www.badminton-castanet.fr/evenement/entrainements-adultes-intermediaires-18-12-2025/
CATEGORIES:Entrainements
END:VEVENT
END:VCALENDAR