BEGIN:VCALENDAR
VERSION:2.0
PRODID:-//Badminton Club de Castanet - ECPv6.15.12.2//NONSGML v1.0//EN
CALSCALE:GREGORIAN
METHOD:PUBLISH
X-WR-CALNAME:Badminton Club de Castanet
X-ORIGINAL-URL:https://www.badminton-castanet.fr
X-WR-CALDESC:Évènements pour Badminton Club de Castanet
REFRESH-INTERVAL;VALUE=DURATION:PT1H
X-Robots-Tag:noindex
X-PUBLISHED-TTL:PT1H
BEGIN:VTIMEZONE
TZID:Europe/Paris
BEGIN:DAYLIGHT
TZOFFSETFROM:+0100
TZOFFSETTO:+0200
TZNAME:CEST
DTSTART:20250330T010000
END:DAYLIGHT
BEGIN:STANDARD
TZOFFSETFROM:+0200
TZOFFSETTO:+0100
TZNAME:CET
DTSTART:20251026T010000
END:STANDARD
BEGIN:DAYLIGHT
TZOFFSETFROM:+0100
TZOFFSETTO:+0200
TZNAME:CEST
DTSTART:20260329T010000
END:DAYLIGHT
BEGIN:STANDARD
TZOFFSETFROM:+0200
TZOFFSETTO:+0100
TZNAME:CET
DTSTART:20261025T010000
END:STANDARD
BEGIN:DAYLIGHT
TZOFFSETFROM:+0100
TZOFFSETTO:+0200
TZNAME:CEST
DTSTART:20270328T010000
END:DAYLIGHT
BEGIN:STANDARD
TZOFFSETFROM:+0200
TZOFFSETTO:+0100
TZNAME:CET
DTSTART:20271031T010000
END:STANDARD
END:VTIMEZONE
BEGIN:VEVENT
DTSTART;TZID=Europe/Paris:20260310T173000
DTEND;TZID=Europe/Paris:20260310T190000
DTSTAMP:20260423T211143
CREATED:20250924T082927Z
LAST-MODIFIED:20250924T083125Z
UID:2652-1773163800-1773169200@www.badminton-castanet.fr
SUMMARY:Entrainement Jeunes - 10/03/2026
DESCRIPTION:
URL:https://www.badminton-castanet.fr/evenement/entrainement-jeunes-10-03-2026/
CATEGORIES:Entrainements
ATTACH;FMTTYPE=image/jpeg:https://www.badminton-castanet.fr/wp-content/uploads/2025/07/Photo-Benjamin-1.jpg
END:VEVENT
BEGIN:VEVENT
DTSTART;TZID=Europe/Paris:20260310T190000
DTEND;TZID=Europe/Paris:20260310T203000
DTSTAMP:20260423T211143
CREATED:20250924T083313Z
LAST-MODIFIED:20250924T083359Z
UID:2700-1773169200-1773174600@www.badminton-castanet.fr
SUMMARY:Entrainement Ados - 10/03/2026
DESCRIPTION:
URL:https://www.badminton-castanet.fr/evenement/entrainement-ados-10-03-2026/
CATEGORIES:Entrainements
ATTACH;FMTTYPE=image/jpeg:https://www.badminton-castanet.fr/wp-content/uploads/2025/07/Photo-Benjamin-1.jpg
END:VEVENT
BEGIN:VEVENT
DTSTART;TZID=Europe/Paris:20260310T203000
DTEND;TZID=Europe/Paris:20260310T214500
DTSTAMP:20260423T211143
CREATED:20250924T083539Z
LAST-MODIFIED:20250924T083623Z
UID:2748-1773174600-1773179100@www.badminton-castanet.fr
SUMMARY:Entrainement Adultes Débutants - 10/03/2026
DESCRIPTION:
URL:https://www.badminton-castanet.fr/evenement/entrainement-adultes-debutants-10-03-2026/
CATEGORIES:Entrainements
ATTACH;FMTTYPE=image/jpeg:https://www.badminton-castanet.fr/wp-content/uploads/2025/07/Photo-Benjamin-1.jpg
END:VEVENT
END:VCALENDAR