BEGIN:VCALENDAR
VERSION:2.0
PRODID:-//Badminton Club de Castanet - ECPv6.15.12.2//NONSGML v1.0//EN
CALSCALE:GREGORIAN
METHOD:PUBLISH
X-ORIGINAL-URL:https://www.badminton-castanet.fr
X-WR-CALDESC:Évènements pour Badminton Club de Castanet
REFRESH-INTERVAL;VALUE=DURATION:PT1H
X-Robots-Tag:noindex
X-PUBLISHED-TTL:PT1H
BEGIN:VTIMEZONE
TZID:Europe/Paris
BEGIN:DAYLIGHT
TZOFFSETFROM:+0100
TZOFFSETTO:+0200
TZNAME:CEST
DTSTART:20250330T010000
END:DAYLIGHT
BEGIN:STANDARD
TZOFFSETFROM:+0200
TZOFFSETTO:+0100
TZNAME:CET
DTSTART:20251026T010000
END:STANDARD
BEGIN:DAYLIGHT
TZOFFSETFROM:+0100
TZOFFSETTO:+0200
TZNAME:CEST
DTSTART:20260329T010000
END:DAYLIGHT
BEGIN:STANDARD
TZOFFSETFROM:+0200
TZOFFSETTO:+0100
TZNAME:CET
DTSTART:20261025T010000
END:STANDARD
BEGIN:DAYLIGHT
TZOFFSETFROM:+0100
TZOFFSETTO:+0200
TZNAME:CEST
DTSTART:20270328T010000
END:DAYLIGHT
BEGIN:STANDARD
TZOFFSETFROM:+0200
TZOFFSETTO:+0100
TZNAME:CET
DTSTART:20271031T010000
END:STANDARD
END:VTIMEZONE
BEGIN:VEVENT
DTSTART;TZID=Europe/Paris:20260702T200000
DTEND;TZID=Europe/Paris:20260702T233000
DTSTAMP:20260423T223640
CREATED:20250911T133055Z
LAST-MODIFIED:20250911T133251Z
UID:2227-1783022400-1783035000@www.badminton-castanet.fr
SUMMARY:Jeu libre jeudi - 02/07/2026
DESCRIPTION:
URL:https://www.badminton-castanet.fr/evenement/jeu-libre-jeudi-02-07-2026/
CATEGORIES:Jeu libre
ATTACH;FMTTYPE=image/jpeg:https://www.badminton-castanet.fr/wp-content/uploads/2025/07/Image-jeu-libre.jpg
END:VEVENT
BEGIN:VEVENT
DTSTART;TZID=Europe/Paris:20260703T170000
DTEND;TZID=Europe/Paris:20260703T190000
DTSTAMP:20260423T223640
CREATED:20250911T133127Z
LAST-MODIFIED:20250911T133251Z
UID:2229-1783098000-1783105200@www.badminton-castanet.fr
SUMMARY:Jeu libre - 03/07/2026
DESCRIPTION:
URL:https://www.badminton-castanet.fr/evenement/jeu-libre-03-07-2026/
CATEGORIES:Jeu libre
ATTACH;FMTTYPE=image/jpeg:https://www.badminton-castanet.fr/wp-content/uploads/2025/07/Image-jeu-libre.jpg
END:VEVENT
END:VCALENDAR