BEGIN:VCALENDAR
VERSION:2.0
PRODID:-//Badminton Club de Castanet - ECPv6.15.12.2//NONSGML v1.0//EN
CALSCALE:GREGORIAN
METHOD:PUBLISH
X-ORIGINAL-URL:https://www.badminton-castanet.fr
X-WR-CALDESC:Évènements pour Badminton Club de Castanet
REFRESH-INTERVAL;VALUE=DURATION:PT1H
X-Robots-Tag:noindex
X-PUBLISHED-TTL:PT1H
BEGIN:VTIMEZONE
TZID:Europe/Paris
BEGIN:DAYLIGHT
TZOFFSETFROM:+0100
TZOFFSETTO:+0200
TZNAME:CEST
DTSTART:20250330T010000
END:DAYLIGHT
BEGIN:STANDARD
TZOFFSETFROM:+0200
TZOFFSETTO:+0100
TZNAME:CET
DTSTART:20251026T010000
END:STANDARD
BEGIN:DAYLIGHT
TZOFFSETFROM:+0100
TZOFFSETTO:+0200
TZNAME:CEST
DTSTART:20260329T010000
END:DAYLIGHT
BEGIN:STANDARD
TZOFFSETFROM:+0200
TZOFFSETTO:+0100
TZNAME:CET
DTSTART:20261025T010000
END:STANDARD
BEGIN:DAYLIGHT
TZOFFSETFROM:+0100
TZOFFSETTO:+0200
TZNAME:CEST
DTSTART:20270328T010000
END:DAYLIGHT
BEGIN:STANDARD
TZOFFSETFROM:+0200
TZOFFSETTO:+0100
TZNAME:CET
DTSTART:20271031T010000
END:STANDARD
END:VTIMEZONE
BEGIN:VEVENT
DTSTART;TZID=Europe/Paris:20260421T170000
DTEND;TZID=Europe/Paris:20260421T235900
DTSTAMP:20260423T173452
CREATED:20251103T193555Z
LAST-MODIFIED:20251103T193853Z
UID:2896-1776790800-1776815940@www.badminton-castanet.fr
SUMMARY:Tournoi CASTANIGHT Badminton du Club 21/04/2026
DESCRIPTION:Pas de jeu libre
URL:https://www.badminton-castanet.fr/evenement/tournoi-castanight-badminton-du-club-21-04-2025/
CATEGORIES:Compétitions
ATTACH;FMTTYPE=image/svg+xml:https://www.badminton-castanet.fr/wp-content/uploads/2025/07/logo.svg
END:VEVENT
BEGIN:VEVENT
DTSTART;TZID=Europe/Paris:20260419T170000
DTEND;TZID=Europe/Paris:20260419T210000
DTSTAMP:20260423T173452
CREATED:20250911T132041Z
LAST-MODIFIED:20250911T132612Z
UID:2137-1776618000-1776632400@www.badminton-castanet.fr
SUMMARY:Jeu libre - 19/04/2026
DESCRIPTION:
URL:https://www.badminton-castanet.fr/evenement/jeu-libre-19-04-2026/
CATEGORIES:Jeu libre
ATTACH;FMTTYPE=image/jpeg:https://www.badminton-castanet.fr/wp-content/uploads/2025/07/Image-jeu-libre.jpg
END:VEVENT
BEGIN:VEVENT
DTSTART;TZID=Europe/Paris:20260418T110000
DTEND;TZID=Europe/Paris:20260418T140000
DTSTAMP:20260423T173452
CREATED:20250911T131436Z
LAST-MODIFIED:20250911T132140Z
UID:1987-1776510000-1776520800@www.badminton-castanet.fr
SUMMARY:Jeu libre - 18/04/2026
DESCRIPTION:
URL:https://www.badminton-castanet.fr/evenement/jeu-libre-18-04-2026/
CATEGORIES:Jeu libre
ATTACH;FMTTYPE=image/jpeg:https://www.badminton-castanet.fr/wp-content/uploads/2025/07/Image-jeu-libre.jpg
END:VEVENT
BEGIN:VEVENT
DTSTART;TZID=Europe/Paris:20260417T170000
DTEND;TZID=Europe/Paris:20260417T190000
DTSTAMP:20260423T173452
CREATED:20250911T131345Z
LAST-MODIFIED:20250911T131626Z
UID:1962-1776445200-1776452400@www.badminton-castanet.fr
SUMMARY:Jeu libre - 17/04/2026
DESCRIPTION:
URL:https://www.badminton-castanet.fr/evenement/jeu-libre-17-04-2026/
CATEGORIES:Jeu libre
ATTACH;FMTTYPE=image/jpeg:https://www.badminton-castanet.fr/wp-content/uploads/2025/07/Image-jeu-libre.jpg
END:VEVENT
BEGIN:VEVENT
DTSTART;TZID=Europe/Paris:20260416T213000
DTEND;TZID=Europe/Paris:20260416T224500
DTSTAMP:20260423T173452
CREATED:20250924T081017Z
LAST-MODIFIED:20250924T081241Z
UID:2526-1776375000-1776379500@www.badminton-castanet.fr
SUMMARY:Entrainement Adultes Intermédiaires - 16/04/2026
DESCRIPTION:
URL:https://www.badminton-castanet.fr/evenement/entrainement-adultes-intermediaires-16-04-2026/
CATEGORIES:Entrainements
ATTACH;FMTTYPE=image/jpeg:https://www.badminton-castanet.fr/wp-content/uploads/2025/07/Photo-Benjamin-1.jpg
END:VEVENT
BEGIN:VEVENT
DTSTART;TZID=Europe/Paris:20260416T201500
DTEND;TZID=Europe/Paris:20260416T213000
DTSTAMP:20260423T173452
CREATED:20250924T074226Z
LAST-MODIFIED:20250924T074509Z
UID:2500-1776370500-1776375000@www.badminton-castanet.fr
SUMMARY:Entrainement Adultes confirmés - 16/04/2026
DESCRIPTION:
URL:https://www.badminton-castanet.fr/evenement/entrainement-adultes-confirmes-16-04-2026/
CATEGORIES:Entrainements
END:VEVENT
BEGIN:VEVENT
DTSTART;TZID=Europe/Paris:20260416T200000
DTEND;TZID=Europe/Paris:20260416T233000
DTSTAMP:20260423T173452
CREATED:20250911T131302Z
LAST-MODIFIED:20250911T131701Z
UID:1937-1776369600-1776382200@www.badminton-castanet.fr
SUMMARY:Jeu libre jeudi - 16/04/2026
DESCRIPTION:
URL:https://www.badminton-castanet.fr/evenement/jeu-libre-jeudi-16-04-2026/
CATEGORIES:Jeu libre
END:VEVENT
BEGIN:VEVENT
DTSTART;TZID=Europe/Paris:20260416T170000
DTEND;TZID=Europe/Paris:20260416T183000
DTSTAMP:20260423T173452
CREATED:20250924T082136Z
LAST-MODIFIED:20250924T082417Z
UID:2609-1776358800-1776364200@www.badminton-castanet.fr
SUMMARY:Entrainement Mini-Bad - 16/04/2026
DESCRIPTION:
URL:https://www.badminton-castanet.fr/evenement/entrainement-mini-bad-16-04-2026/
CATEGORIES:Entrainements
ATTACH;FMTTYPE=image/jpeg:https://www.badminton-castanet.fr/wp-content/uploads/2025/07/Photo-Benjamin-1.jpg
END:VEVENT
BEGIN:VEVENT
DTSTART;TZID=Europe/Paris:20260416T170000
DTEND;TZID=Europe/Paris:20260416T183000
DTSTAMP:20260423T173452
CREATED:20250924T081702Z
LAST-MODIFIED:20250924T081941Z
UID:2561-1776358800-1776364200@www.badminton-castanet.fr
SUMMARY:Entrainement Para-Bad - 16/04/2026
DESCRIPTION:
URL:https://www.badminton-castanet.fr/evenement/entrainement-para-bad-16-04-2026/
CATEGORIES:Entrainements
ATTACH;FMTTYPE=image/jpeg:https://www.badminton-castanet.fr/wp-content/uploads/2025/07/Photo-Benjamin-1.jpg
END:VEVENT
BEGIN:VEVENT
DTSTART;TZID=Europe/Paris:20260416T170000
DTEND;TZID=Europe/Paris:20260416T183000
DTSTAMP:20260423T173452
CREATED:20250911T132435Z
LAST-MODIFIED:20250911T133251Z
UID:2188-1776358800-1776364200@www.badminton-castanet.fr
SUMMARY:Jeu libre - 16/04/2026
DESCRIPTION:
URL:https://www.badminton-castanet.fr/evenement/jeu-libre-16-04-2026/
CATEGORIES:Jeu libre
ATTACH;FMTTYPE=image/jpeg:https://www.badminton-castanet.fr/wp-content/uploads/2025/07/Image-jeu-libre.jpg
END:VEVENT
BEGIN:VEVENT
DTSTART;TZID=Europe/Paris:20260415T200000
DTEND;TZID=Europe/Paris:20260415T233000
DTSTAMP:20260423T173452
CREATED:20251108T172221Z
LAST-MODIFIED:20251108T172221Z
UID:2943-1776283200-1776295800@www.badminton-castanet.fr
SUMMARY:Interclub EXTÉRIEUR Départemental 2 Équipe 2 - 15/04/2026
DESCRIPTION:Rencontre Interclub de l’équipe 2 en Départementa \nVCT
URL:https://www.badminton-castanet.fr/evenement/interclub-exterieur-departemental-2-equipe-2-15-04-2026/
CATEGORIES:Compétitions
ATTACH;FMTTYPE=image/jpeg:https://www.badminton-castanet.fr/wp-content/uploads/2025/10/2025-2026-Equipe-2-scaled.jpg
END:VEVENT
BEGIN:VEVENT
DTSTART;TZID=Europe/Paris:20260414T203000
DTEND;TZID=Europe/Paris:20260414T214500
DTSTAMP:20260423T173452
CREATED:20250924T083540Z
LAST-MODIFIED:20250924T083623Z
UID:2753-1776198600-1776203100@www.badminton-castanet.fr
SUMMARY:Entrainement Adultes Débutants - 14/04/2026
DESCRIPTION:
URL:https://www.badminton-castanet.fr/evenement/entrainement-adultes-debutants-14-04-2026/
CATEGORIES:Entrainements
ATTACH;FMTTYPE=image/jpeg:https://www.badminton-castanet.fr/wp-content/uploads/2025/07/Photo-Benjamin-1.jpg
END:VEVENT
BEGIN:VEVENT
DTSTART;TZID=Europe/Paris:20260414T190000
DTEND;TZID=Europe/Paris:20260414T203000
DTSTAMP:20260423T173452
CREATED:20250924T083314Z
LAST-MODIFIED:20250924T083358Z
UID:2705-1776193200-1776198600@www.badminton-castanet.fr
SUMMARY:Entrainement Ados - 14/04/2026
DESCRIPTION:
URL:https://www.badminton-castanet.fr/evenement/entrainement-ados-14-04-2026/
CATEGORIES:Entrainements
ATTACH;FMTTYPE=image/jpeg:https://www.badminton-castanet.fr/wp-content/uploads/2025/07/Photo-Benjamin-1.jpg
END:VEVENT
BEGIN:VEVENT
DTSTART;TZID=Europe/Paris:20260414T173000
DTEND;TZID=Europe/Paris:20260414T190000
DTSTAMP:20260423T173452
CREATED:20250924T082928Z
LAST-MODIFIED:20250924T083125Z
UID:2657-1776187800-1776193200@www.badminton-castanet.fr
SUMMARY:Entrainement Jeunes - 14/04/2026
DESCRIPTION:
URL:https://www.badminton-castanet.fr/evenement/entrainement-jeunes-14-04-2026/
CATEGORIES:Entrainements
ATTACH;FMTTYPE=image/jpeg:https://www.badminton-castanet.fr/wp-content/uploads/2025/07/Photo-Benjamin-1.jpg
END:VEVENT
BEGIN:VEVENT
DTSTART;TZID=Europe/Paris:20260414T170000
DTEND;TZID=Europe/Paris:20260414T233000
DTSTAMP:20260423T173452
CREATED:20250911T130953Z
LAST-MODIFIED:20250911T131028Z
UID:1888-1776186000-1776209400@www.badminton-castanet.fr
SUMMARY:Jeu libre mardi - 14/04/2026
DESCRIPTION:
URL:https://www.badminton-castanet.fr/evenement/jeu-libre-mardi-14-04-2026/
CATEGORIES:Jeu libre
ATTACH;FMTTYPE=image/jpeg:https://www.badminton-castanet.fr/wp-content/uploads/2025/07/Image-jeu-libre.jpg
END:VEVENT
BEGIN:VEVENT
DTSTART;TZID=Europe/Paris:20260413T200000
DTEND;TZID=Europe/Paris:20260413T233000
DTSTAMP:20260423T173452
CREATED:20251108T172800Z
LAST-MODIFIED:20251108T172800Z
UID:2953-1776110400-1776123000@www.badminton-castanet.fr
SUMMARY:Interclub EXTÉRIEUR Départemental 3 Équipe 3 - 13/04/2026
DESCRIPTION:Rencontre Interclub de l’équipe 3 en Départemental 3. \nCOLOMIERS
URL:https://www.badminton-castanet.fr/evenement/interclub-exterieur-departemental-3-equipe-3-13-04-2026/
LOCATION:Castanet
CATEGORIES:Compétitions
ATTACH;FMTTYPE=image/jpeg:https://www.badminton-castanet.fr/wp-content/uploads/2025/10/2025-2026-Equipe-3-scaled.jpg
END:VEVENT
BEGIN:VEVENT
DTSTART;TZID=Europe/Paris:20260412T170000
DTEND;TZID=Europe/Paris:20260412T210000
DTSTAMP:20260423T173452
CREATED:20250911T132041Z
LAST-MODIFIED:20250911T132612Z
UID:2136-1776013200-1776027600@www.badminton-castanet.fr
SUMMARY:Jeu libre - 12/04/2026
DESCRIPTION:
URL:https://www.badminton-castanet.fr/evenement/jeu-libre-12-04-2026/
CATEGORIES:Jeu libre
ATTACH;FMTTYPE=image/jpeg:https://www.badminton-castanet.fr/wp-content/uploads/2025/07/Image-jeu-libre.jpg
END:VEVENT
BEGIN:VEVENT
DTSTART;TZID=Europe/Paris:20260412T080000
DTEND;TZID=Europe/Paris:20260412T170000
DTSTAMP:20260423T173452
CREATED:20250924T152618Z
LAST-MODIFIED:20250924T152618Z
UID:2816-1775980800-1776013200@www.badminton-castanet.fr
SUMMARY:Interclub Régional R1 - 12/04/2026
DESCRIPTION:
URL:https://www.badminton-castanet.fr/evenement/interclub-regional-r1-12-04-2026/
CATEGORIES:Compétitions
ATTACH;FMTTYPE=image/jpeg:https://www.badminton-castanet.fr/wp-content/uploads/2025/09/Logo-Ligue-700x446-1.jpg
END:VEVENT
BEGIN:VEVENT
DTSTART;TZID=Europe/Paris:20260411T110000
DTEND;TZID=Europe/Paris:20260411T140000
DTSTAMP:20260423T173452
CREATED:20250911T131436Z
LAST-MODIFIED:20250911T132140Z
UID:1986-1775905200-1775916000@www.badminton-castanet.fr
SUMMARY:Jeu libre - 11/04/2026
DESCRIPTION:
URL:https://www.badminton-castanet.fr/evenement/jeu-libre-11-04-2026/
CATEGORIES:Jeu libre
ATTACH;FMTTYPE=image/jpeg:https://www.badminton-castanet.fr/wp-content/uploads/2025/07/Image-jeu-libre.jpg
END:VEVENT
BEGIN:VEVENT
DTSTART;TZID=Europe/Paris:20260410T170000
DTEND;TZID=Europe/Paris:20260410T190000
DTSTAMP:20260423T173452
CREATED:20250911T131344Z
LAST-MODIFIED:20250911T131638Z
UID:1961-1775840400-1775847600@www.badminton-castanet.fr
SUMMARY:Jeu libre - 10/04/2026
DESCRIPTION:
URL:https://www.badminton-castanet.fr/evenement/jeu-libre-10-04-2026/
CATEGORIES:Jeu libre
ATTACH;FMTTYPE=image/jpeg:https://www.badminton-castanet.fr/wp-content/uploads/2025/07/Image-jeu-libre.jpg
END:VEVENT
BEGIN:VEVENT
DTSTART;TZID=Europe/Paris:20260409T213000
DTEND;TZID=Europe/Paris:20260409T224500
DTSTAMP:20260423T173452
CREATED:20250924T081017Z
LAST-MODIFIED:20250924T081241Z
UID:2525-1775770200-1775774700@www.badminton-castanet.fr
SUMMARY:Entrainement Adultes Intermédiaires - 09/04/2026
DESCRIPTION:
URL:https://www.badminton-castanet.fr/evenement/entrainement-adultes-intermediaires-09-04-2026/
CATEGORIES:Entrainements
ATTACH;FMTTYPE=image/jpeg:https://www.badminton-castanet.fr/wp-content/uploads/2025/07/Photo-Benjamin-1.jpg
END:VEVENT
BEGIN:VEVENT
DTSTART;TZID=Europe/Paris:20260409T201500
DTEND;TZID=Europe/Paris:20260409T213000
DTSTAMP:20260423T173452
CREATED:20250924T074226Z
LAST-MODIFIED:20250924T074509Z
UID:2499-1775765700-1775770200@www.badminton-castanet.fr
SUMMARY:Entrainement Adultes confirmés - 09/04/2026
DESCRIPTION:
URL:https://www.badminton-castanet.fr/evenement/entrainement-adultes-confirmes-09-04-2026/
CATEGORIES:Entrainements
END:VEVENT
BEGIN:VEVENT
DTSTART;TZID=Europe/Paris:20260409T200000
DTEND;TZID=Europe/Paris:20260409T233000
DTSTAMP:20260423T173452
CREATED:20250911T131302Z
LAST-MODIFIED:20250911T131701Z
UID:1936-1775764800-1775777400@www.badminton-castanet.fr
SUMMARY:Jeu libre jeudi - 09/04/2026
DESCRIPTION:
URL:https://www.badminton-castanet.fr/evenement/jeu-libre-jeudi-09-04-2026/
CATEGORIES:Jeu libre
END:VEVENT
BEGIN:VEVENT
DTSTART;TZID=Europe/Paris:20260409T170000
DTEND;TZID=Europe/Paris:20260409T183000
DTSTAMP:20260423T173452
CREATED:20250924T082136Z
LAST-MODIFIED:20250924T082417Z
UID:2608-1775754000-1775759400@www.badminton-castanet.fr
SUMMARY:Entrainement Mini-Bad - 09/04/2026
DESCRIPTION:
URL:https://www.badminton-castanet.fr/evenement/entrainement-mini-bad-09-04-2026/
CATEGORIES:Entrainements
ATTACH;FMTTYPE=image/jpeg:https://www.badminton-castanet.fr/wp-content/uploads/2025/07/Photo-Benjamin-1.jpg
END:VEVENT
BEGIN:VEVENT
DTSTART;TZID=Europe/Paris:20260409T170000
DTEND;TZID=Europe/Paris:20260409T183000
DTSTAMP:20260423T173452
CREATED:20250924T081702Z
LAST-MODIFIED:20250924T081941Z
UID:2560-1775754000-1775759400@www.badminton-castanet.fr
SUMMARY:Entrainement Para-Bad - 09/04/2026
DESCRIPTION:
URL:https://www.badminton-castanet.fr/evenement/entrainement-para-bad-09-04-2026/
CATEGORIES:Entrainements
ATTACH;FMTTYPE=image/jpeg:https://www.badminton-castanet.fr/wp-content/uploads/2025/07/Photo-Benjamin-1.jpg
END:VEVENT
BEGIN:VEVENT
DTSTART;TZID=Europe/Paris:20260409T170000
DTEND;TZID=Europe/Paris:20260409T183000
DTSTAMP:20260423T173452
CREATED:20250911T132435Z
LAST-MODIFIED:20250911T133251Z
UID:2187-1775754000-1775759400@www.badminton-castanet.fr
SUMMARY:Jeu libre - 09/04/2026
DESCRIPTION:
URL:https://www.badminton-castanet.fr/evenement/jeu-libre-09-04-2026/
CATEGORIES:Jeu libre
ATTACH;FMTTYPE=image/jpeg:https://www.badminton-castanet.fr/wp-content/uploads/2025/07/Image-jeu-libre.jpg
END:VEVENT
BEGIN:VEVENT
DTSTART;TZID=Europe/Paris:20260407T203000
DTEND;TZID=Europe/Paris:20260407T214500
DTSTAMP:20260423T173452
CREATED:20250924T083540Z
LAST-MODIFIED:20250924T083623Z
UID:2752-1775593800-1775598300@www.badminton-castanet.fr
SUMMARY:Entrainement Adultes Débutants - 07/04/2026
DESCRIPTION:
URL:https://www.badminton-castanet.fr/evenement/entrainement-adultes-debutants-07-04-2026/
CATEGORIES:Entrainements
ATTACH;FMTTYPE=image/jpeg:https://www.badminton-castanet.fr/wp-content/uploads/2025/07/Photo-Benjamin-1.jpg
END:VEVENT
BEGIN:VEVENT
DTSTART;TZID=Europe/Paris:20260407T190000
DTEND;TZID=Europe/Paris:20260407T203000
DTSTAMP:20260423T173452
CREATED:20250924T083314Z
LAST-MODIFIED:20250924T083358Z
UID:2704-1775588400-1775593800@www.badminton-castanet.fr
SUMMARY:Entrainement Ados - 07/04/2026
DESCRIPTION:
URL:https://www.badminton-castanet.fr/evenement/entrainement-ados-07-04-2026/
CATEGORIES:Entrainements
ATTACH;FMTTYPE=image/jpeg:https://www.badminton-castanet.fr/wp-content/uploads/2025/07/Photo-Benjamin-1.jpg
END:VEVENT
BEGIN:VEVENT
DTSTART;TZID=Europe/Paris:20260407T173000
DTEND;TZID=Europe/Paris:20260407T190000
DTSTAMP:20260423T173452
CREATED:20250924T082928Z
LAST-MODIFIED:20250924T083125Z
UID:2656-1775583000-1775588400@www.badminton-castanet.fr
SUMMARY:Entrainement Jeunes - 07/04/2026
DESCRIPTION:
URL:https://www.badminton-castanet.fr/evenement/entrainement-jeunes-07-04-2026/
CATEGORIES:Entrainements
ATTACH;FMTTYPE=image/jpeg:https://www.badminton-castanet.fr/wp-content/uploads/2025/07/Photo-Benjamin-1.jpg
END:VEVENT
BEGIN:VEVENT
DTSTART;TZID=Europe/Paris:20260407T170000
DTEND;TZID=Europe/Paris:20260407T233000
DTSTAMP:20260423T173452
CREATED:20250911T130953Z
LAST-MODIFIED:20250911T131028Z
UID:1887-1775581200-1775604600@www.badminton-castanet.fr
SUMMARY:Jeu libre mardi - 07/04/2026
DESCRIPTION:
URL:https://www.badminton-castanet.fr/evenement/jeu-libre-mardi-07-04-2026/
CATEGORIES:Jeu libre
ATTACH;FMTTYPE=image/jpeg:https://www.badminton-castanet.fr/wp-content/uploads/2025/07/Image-jeu-libre.jpg
END:VEVENT
END:VCALENDAR