BEGIN:VCALENDAR
VERSION:2.0
PRODID:-//Badminton Club de Castanet - ECPv6.15.12.2//NONSGML v1.0//EN
CALSCALE:GREGORIAN
METHOD:PUBLISH
X-WR-CALNAME:Badminton Club de Castanet
X-ORIGINAL-URL:https://www.badminton-castanet.fr
X-WR-CALDESC:Évènements pour Badminton Club de Castanet
REFRESH-INTERVAL;VALUE=DURATION:PT1H
X-Robots-Tag:noindex
X-PUBLISHED-TTL:PT1H
BEGIN:VTIMEZONE
TZID:Europe/Paris
BEGIN:DAYLIGHT
TZOFFSETFROM:+0100
TZOFFSETTO:+0200
TZNAME:CEST
DTSTART:20250330T010000
END:DAYLIGHT
BEGIN:STANDARD
TZOFFSETFROM:+0200
TZOFFSETTO:+0100
TZNAME:CET
DTSTART:20251026T010000
END:STANDARD
BEGIN:DAYLIGHT
TZOFFSETFROM:+0100
TZOFFSETTO:+0200
TZNAME:CEST
DTSTART:20260329T010000
END:DAYLIGHT
BEGIN:STANDARD
TZOFFSETFROM:+0200
TZOFFSETTO:+0100
TZNAME:CET
DTSTART:20261025T010000
END:STANDARD
BEGIN:DAYLIGHT
TZOFFSETFROM:+0100
TZOFFSETTO:+0200
TZNAME:CEST
DTSTART:20270328T010000
END:DAYLIGHT
BEGIN:STANDARD
TZOFFSETFROM:+0200
TZOFFSETTO:+0100
TZNAME:CET
DTSTART:20271031T010000
END:STANDARD
END:VTIMEZONE
BEGIN:VEVENT
DTSTART;TZID=Europe/Paris:20260505T170000
DTEND;TZID=Europe/Paris:20260505T233000
DTSTAMP:20260423T161230
CREATED:20250911T130953Z
LAST-MODIFIED:20250911T131028Z
UID:1891-1778000400-1778023800@www.badminton-castanet.fr
SUMMARY:Jeu libre mardi - 05/05/2026
DESCRIPTION:
URL:https://www.badminton-castanet.fr/evenement/jeu-libre-mardi-05-05-2026/
CATEGORIES:Jeu libre
ATTACH;FMTTYPE=image/jpeg:https://www.badminton-castanet.fr/wp-content/uploads/2025/07/Image-jeu-libre.jpg
END:VEVENT
BEGIN:VEVENT
DTSTART;TZID=Europe/Paris:20260505T173000
DTEND;TZID=Europe/Paris:20260505T190000
DTSTAMP:20260423T161230
CREATED:20250924T082928Z
LAST-MODIFIED:20250924T083125Z
UID:2660-1778002200-1778007600@www.badminton-castanet.fr
SUMMARY:Entrainement Jeunes - 05/05/2026
DESCRIPTION:
URL:https://www.badminton-castanet.fr/evenement/entrainement-jeunes-05-05-2026/
CATEGORIES:Entrainements
ATTACH;FMTTYPE=image/jpeg:https://www.badminton-castanet.fr/wp-content/uploads/2025/07/Photo-Benjamin-1.jpg
END:VEVENT
BEGIN:VEVENT
DTSTART;TZID=Europe/Paris:20260505T190000
DTEND;TZID=Europe/Paris:20260505T203000
DTSTAMP:20260423T161230
CREATED:20250924T083314Z
LAST-MODIFIED:20250924T083358Z
UID:2708-1778007600-1778013000@www.badminton-castanet.fr
SUMMARY:Entrainement Ados - 05/05/2026
DESCRIPTION:
URL:https://www.badminton-castanet.fr/evenement/entrainement-ados-05-05-2026/
CATEGORIES:Entrainements
ATTACH;FMTTYPE=image/jpeg:https://www.badminton-castanet.fr/wp-content/uploads/2025/07/Photo-Benjamin-1.jpg
END:VEVENT
BEGIN:VEVENT
DTSTART;TZID=Europe/Paris:20260505T203000
DTEND;TZID=Europe/Paris:20260505T214500
DTSTAMP:20260423T161230
CREATED:20250924T083540Z
LAST-MODIFIED:20250924T083622Z
UID:2756-1778013000-1778017500@www.badminton-castanet.fr
SUMMARY:Entrainement Adultes Débutants - 05/05/2026
DESCRIPTION:
URL:https://www.badminton-castanet.fr/evenement/entrainement-adultes-debutants-05-05-2026/
CATEGORIES:Entrainements
ATTACH;FMTTYPE=image/jpeg:https://www.badminton-castanet.fr/wp-content/uploads/2025/07/Photo-Benjamin-1.jpg
END:VEVENT
BEGIN:VEVENT
DTSTART;TZID=Europe/Paris:20260507T170000
DTEND;TZID=Europe/Paris:20260507T183000
DTSTAMP:20260423T161230
CREATED:20250911T132435Z
LAST-MODIFIED:20250911T133251Z
UID:2191-1778173200-1778178600@www.badminton-castanet.fr
SUMMARY:Jeu libre - 07/05/2026
DESCRIPTION:
URL:https://www.badminton-castanet.fr/evenement/jeu-libre-07-05-2026/
CATEGORIES:Jeu libre
ATTACH;FMTTYPE=image/jpeg:https://www.badminton-castanet.fr/wp-content/uploads/2025/07/Image-jeu-libre.jpg
END:VEVENT
BEGIN:VEVENT
DTSTART;TZID=Europe/Paris:20260507T170000
DTEND;TZID=Europe/Paris:20260507T183000
DTSTAMP:20260423T161230
CREATED:20250924T081702Z
LAST-MODIFIED:20250924T081941Z
UID:2564-1778173200-1778178600@www.badminton-castanet.fr
SUMMARY:Entrainement Para-Bad - 07/05/2026
DESCRIPTION:
URL:https://www.badminton-castanet.fr/evenement/entrainement-para-bad-07-05-2026/
CATEGORIES:Entrainements
ATTACH;FMTTYPE=image/jpeg:https://www.badminton-castanet.fr/wp-content/uploads/2025/07/Photo-Benjamin-1.jpg
END:VEVENT
BEGIN:VEVENT
DTSTART;TZID=Europe/Paris:20260507T170000
DTEND;TZID=Europe/Paris:20260507T183000
DTSTAMP:20260423T161230
CREATED:20250924T082136Z
LAST-MODIFIED:20250924T082417Z
UID:2612-1778173200-1778178600@www.badminton-castanet.fr
SUMMARY:Entrainement Mini-Bad - 07/05/2026
DESCRIPTION:
URL:https://www.badminton-castanet.fr/evenement/entrainement-mini-bad-07-05-2026/
CATEGORIES:Entrainements
ATTACH;FMTTYPE=image/jpeg:https://www.badminton-castanet.fr/wp-content/uploads/2025/07/Photo-Benjamin-1.jpg
END:VEVENT
BEGIN:VEVENT
DTSTART;TZID=Europe/Paris:20260507T200000
DTEND;TZID=Europe/Paris:20260507T233000
DTSTAMP:20260423T161230
CREATED:20250911T131302Z
LAST-MODIFIED:20250911T131701Z
UID:1940-1778184000-1778196600@www.badminton-castanet.fr
SUMMARY:Jeu libre jeudi - 07/05/2026
DESCRIPTION:
URL:https://www.badminton-castanet.fr/evenement/jeu-libre-jeudi-07-05-2026/
CATEGORIES:Jeu libre
END:VEVENT
BEGIN:VEVENT
DTSTART;TZID=Europe/Paris:20260507T201500
DTEND;TZID=Europe/Paris:20260507T213000
DTSTAMP:20260423T161230
CREATED:20250924T081105Z
LAST-MODIFIED:20250924T081241Z
UID:2527-1778184900-1778189400@www.badminton-castanet.fr
SUMMARY:Entrainement Adultes Intermédiaires - 07/05/2026
DESCRIPTION:
URL:https://www.badminton-castanet.fr/evenement/entrainement-adultes-intermediaires-07-05-2026/
CATEGORIES:Entrainements
ATTACH;FMTTYPE=image/jpeg:https://www.badminton-castanet.fr/wp-content/uploads/2025/07/Photo-Benjamin-1.jpg
END:VEVENT
BEGIN:VEVENT
DTSTART;TZID=Europe/Paris:20260507T213000
DTEND;TZID=Europe/Paris:20260507T224500
DTSTAMP:20260423T161230
CREATED:20250924T074329Z
LAST-MODIFIED:20250924T075221Z
UID:2501-1778189400-1778193900@www.badminton-castanet.fr
SUMMARY:Entrainement Adultes confirmés - 07/05/2026
DESCRIPTION:
URL:https://www.badminton-castanet.fr/evenement/entrainement-adultes-confirmes-07-05-2026/
CATEGORIES:Entrainements
ATTACH;FMTTYPE=image/jpeg:https://www.badminton-castanet.fr/wp-content/uploads/2025/07/Photo-Benjamin-1.jpg
END:VEVENT
BEGIN:VEVENT
DTSTART;TZID=Europe/Paris:20260508T170000
DTEND;TZID=Europe/Paris:20260508T190000
DTSTAMP:20260423T161230
CREATED:20250911T131345Z
LAST-MODIFIED:20250911T131626Z
UID:1965-1778259600-1778266800@www.badminton-castanet.fr
SUMMARY:Jeu libre - 08/05/2026
DESCRIPTION:
URL:https://www.badminton-castanet.fr/evenement/jeu-libre-08-05-2026/
CATEGORIES:Jeu libre
ATTACH;FMTTYPE=image/jpeg:https://www.badminton-castanet.fr/wp-content/uploads/2025/07/Image-jeu-libre.jpg
END:VEVENT
BEGIN:VEVENT
DTSTART;TZID=Europe/Paris:20260509T110000
DTEND;TZID=Europe/Paris:20260509T140000
DTSTAMP:20260423T161230
CREATED:20250911T131436Z
LAST-MODIFIED:20250911T132140Z
UID:1990-1778324400-1778335200@www.badminton-castanet.fr
SUMMARY:Jeu libre - 09/05/2026
DESCRIPTION:
URL:https://www.badminton-castanet.fr/evenement/jeu-libre-09-05-2026/
CATEGORIES:Jeu libre
ATTACH;FMTTYPE=image/jpeg:https://www.badminton-castanet.fr/wp-content/uploads/2025/07/Image-jeu-libre.jpg
END:VEVENT
BEGIN:VEVENT
DTSTART;TZID=Europe/Paris:20260510T170000
DTEND;TZID=Europe/Paris:20260510T210000
DTSTAMP:20260423T161230
CREATED:20250911T132041Z
LAST-MODIFIED:20250911T132612Z
UID:2140-1778432400-1778446800@www.badminton-castanet.fr
SUMMARY:Jeu libre - 10/05/2026
DESCRIPTION:
URL:https://www.badminton-castanet.fr/evenement/jeu-libre-10-05-2026/
CATEGORIES:Jeu libre
ATTACH;FMTTYPE=image/jpeg:https://www.badminton-castanet.fr/wp-content/uploads/2025/07/Image-jeu-libre.jpg
END:VEVENT
BEGIN:VEVENT
DTSTART;TZID=Europe/Paris:20260512T170000
DTEND;TZID=Europe/Paris:20260512T233000
DTSTAMP:20260423T161230
CREATED:20250911T130953Z
LAST-MODIFIED:20250911T131028Z
UID:1892-1778605200-1778628600@www.badminton-castanet.fr
SUMMARY:Jeu libre mardi - 12/05/2026
DESCRIPTION:
URL:https://www.badminton-castanet.fr/evenement/jeu-libre-mardi-12-05-2026/
CATEGORIES:Jeu libre
ATTACH;FMTTYPE=image/jpeg:https://www.badminton-castanet.fr/wp-content/uploads/2025/07/Image-jeu-libre.jpg
END:VEVENT
BEGIN:VEVENT
DTSTART;TZID=Europe/Paris:20260512T173000
DTEND;TZID=Europe/Paris:20260512T190000
DTSTAMP:20260423T161230
CREATED:20250924T082928Z
LAST-MODIFIED:20250924T083125Z
UID:2661-1778607000-1778612400@www.badminton-castanet.fr
SUMMARY:Entrainement Jeunes - 12/05/2026
DESCRIPTION:
URL:https://www.badminton-castanet.fr/evenement/entrainement-jeunes-12-05-2026/
CATEGORIES:Entrainements
ATTACH;FMTTYPE=image/jpeg:https://www.badminton-castanet.fr/wp-content/uploads/2025/07/Photo-Benjamin-1.jpg
END:VEVENT
BEGIN:VEVENT
DTSTART;TZID=Europe/Paris:20260512T190000
DTEND;TZID=Europe/Paris:20260512T203000
DTSTAMP:20260423T161230
CREATED:20250924T083314Z
LAST-MODIFIED:20250924T083358Z
UID:2709-1778612400-1778617800@www.badminton-castanet.fr
SUMMARY:Entrainement Ados - 12/05/2026
DESCRIPTION:
URL:https://www.badminton-castanet.fr/evenement/entrainement-ados-12-05-2026/
CATEGORIES:Entrainements
ATTACH;FMTTYPE=image/jpeg:https://www.badminton-castanet.fr/wp-content/uploads/2025/07/Photo-Benjamin-1.jpg
END:VEVENT
BEGIN:VEVENT
DTSTART;TZID=Europe/Paris:20260512T203000
DTEND;TZID=Europe/Paris:20260512T214500
DTSTAMP:20260423T161230
CREATED:20250924T083540Z
LAST-MODIFIED:20250924T083622Z
UID:2757-1778617800-1778622300@www.badminton-castanet.fr
SUMMARY:Entrainement Adultes Débutants - 12/05/2026
DESCRIPTION:
URL:https://www.badminton-castanet.fr/evenement/entrainement-adultes-debutants-12-05-2026/
CATEGORIES:Entrainements
ATTACH;FMTTYPE=image/jpeg:https://www.badminton-castanet.fr/wp-content/uploads/2025/07/Photo-Benjamin-1.jpg
END:VEVENT
BEGIN:VEVENT
DTSTART;TZID=Europe/Paris:20260514T170000
DTEND;TZID=Europe/Paris:20260514T183000
DTSTAMP:20260423T161230
CREATED:20250911T132435Z
LAST-MODIFIED:20250911T133251Z
UID:2192-1778778000-1778783400@www.badminton-castanet.fr
SUMMARY:Jeu libre - 14/05/2026
DESCRIPTION:
URL:https://www.badminton-castanet.fr/evenement/jeu-libre-14-05-2026/
CATEGORIES:Jeu libre
ATTACH;FMTTYPE=image/jpeg:https://www.badminton-castanet.fr/wp-content/uploads/2025/07/Image-jeu-libre.jpg
END:VEVENT
BEGIN:VEVENT
DTSTART;TZID=Europe/Paris:20260514T200000
DTEND;TZID=Europe/Paris:20260514T233000
DTSTAMP:20260423T161230
CREATED:20250911T131302Z
LAST-MODIFIED:20250911T131701Z
UID:1941-1778788800-1778801400@www.badminton-castanet.fr
SUMMARY:Jeu libre jeudi - 14/05/2026
DESCRIPTION:
URL:https://www.badminton-castanet.fr/evenement/jeu-libre-jeudi-14-05-2026/
CATEGORIES:Jeu libre
END:VEVENT
BEGIN:VEVENT
DTSTART;TZID=Europe/Paris:20260515T170000
DTEND;TZID=Europe/Paris:20260515T190000
DTSTAMP:20260423T161230
CREATED:20250911T131345Z
LAST-MODIFIED:20250911T131626Z
UID:1966-1778864400-1778871600@www.badminton-castanet.fr
SUMMARY:Jeu libre - 15/05/2026
DESCRIPTION:
URL:https://www.badminton-castanet.fr/evenement/jeu-libre-15-05-2026/
CATEGORIES:Jeu libre
ATTACH;FMTTYPE=image/jpeg:https://www.badminton-castanet.fr/wp-content/uploads/2025/07/Image-jeu-libre.jpg
END:VEVENT
BEGIN:VEVENT
DTSTART;TZID=Europe/Paris:20260516T110000
DTEND;TZID=Europe/Paris:20260516T140000
DTSTAMP:20260423T161230
CREATED:20250911T131436Z
LAST-MODIFIED:20250911T132140Z
UID:1991-1778929200-1778940000@www.badminton-castanet.fr
SUMMARY:Jeu libre - 16/05/2026
DESCRIPTION:
URL:https://www.badminton-castanet.fr/evenement/jeu-libre-16-05-2026/
CATEGORIES:Jeu libre
ATTACH;FMTTYPE=image/jpeg:https://www.badminton-castanet.fr/wp-content/uploads/2025/07/Image-jeu-libre.jpg
END:VEVENT
BEGIN:VEVENT
DTSTART;TZID=Europe/Paris:20260517T170000
DTEND;TZID=Europe/Paris:20260517T210000
DTSTAMP:20260423T161230
CREATED:20250911T132041Z
LAST-MODIFIED:20250911T132612Z
UID:2141-1779037200-1779051600@www.badminton-castanet.fr
SUMMARY:Jeu libre - 17/05/2026
DESCRIPTION:
URL:https://www.badminton-castanet.fr/evenement/jeu-libre-17-05-2026/
CATEGORIES:Jeu libre
ATTACH;FMTTYPE=image/jpeg:https://www.badminton-castanet.fr/wp-content/uploads/2025/07/Image-jeu-libre.jpg
END:VEVENT
BEGIN:VEVENT
DTSTART;TZID=Europe/Paris:20260519T170000
DTEND;TZID=Europe/Paris:20260519T233000
DTSTAMP:20260423T161230
CREATED:20250911T130953Z
LAST-MODIFIED:20250911T131526Z
UID:1893-1779210000-1779233400@www.badminton-castanet.fr
SUMMARY:Jeu libre mardi - 19/05/2026
DESCRIPTION:
URL:https://www.badminton-castanet.fr/evenement/jeu-libre-mardi-19-05-2026/
CATEGORIES:Jeu libre
ATTACH;FMTTYPE=image/jpeg:https://www.badminton-castanet.fr/wp-content/uploads/2025/07/Image-jeu-libre.jpg
END:VEVENT
BEGIN:VEVENT
DTSTART;TZID=Europe/Paris:20260519T173000
DTEND;TZID=Europe/Paris:20260519T190000
DTSTAMP:20260423T161230
CREATED:20250924T082928Z
LAST-MODIFIED:20250924T083125Z
UID:2662-1779211800-1779217200@www.badminton-castanet.fr
SUMMARY:Entrainement Jeunes - 19/05/2026
DESCRIPTION:
URL:https://www.badminton-castanet.fr/evenement/entrainement-jeunes-19-05-2026/
CATEGORIES:Entrainements
ATTACH;FMTTYPE=image/jpeg:https://www.badminton-castanet.fr/wp-content/uploads/2025/07/Photo-Benjamin-1.jpg
END:VEVENT
BEGIN:VEVENT
DTSTART;TZID=Europe/Paris:20260519T190000
DTEND;TZID=Europe/Paris:20260519T203000
DTSTAMP:20260423T161230
CREATED:20250924T083314Z
LAST-MODIFIED:20250924T083358Z
UID:2710-1779217200-1779222600@www.badminton-castanet.fr
SUMMARY:Entrainement Ados - 19/05/2026
DESCRIPTION:
URL:https://www.badminton-castanet.fr/evenement/entrainement-ados-19-05-2026/
CATEGORIES:Entrainements
ATTACH;FMTTYPE=image/jpeg:https://www.badminton-castanet.fr/wp-content/uploads/2025/07/Photo-Benjamin-1.jpg
END:VEVENT
BEGIN:VEVENT
DTSTART;TZID=Europe/Paris:20260519T203000
DTEND;TZID=Europe/Paris:20260519T214500
DTSTAMP:20260423T161230
CREATED:20250924T083540Z
LAST-MODIFIED:20250924T083622Z
UID:2758-1779222600-1779227100@www.badminton-castanet.fr
SUMMARY:Entrainement Adultes Débutants - 19/05/2026
DESCRIPTION:
URL:https://www.badminton-castanet.fr/evenement/entrainement-adultes-debutants-19-05-2026/
CATEGORIES:Entrainements
ATTACH;FMTTYPE=image/jpeg:https://www.badminton-castanet.fr/wp-content/uploads/2025/07/Photo-Benjamin-1.jpg
END:VEVENT
BEGIN:VEVENT
DTSTART;TZID=Europe/Paris:20260521T170000
DTEND;TZID=Europe/Paris:20260521T183000
DTSTAMP:20260423T161230
CREATED:20250911T132435Z
LAST-MODIFIED:20250911T133251Z
UID:2193-1779382800-1779388200@www.badminton-castanet.fr
SUMMARY:Jeu libre - 21/05/2026
DESCRIPTION:
URL:https://www.badminton-castanet.fr/evenement/jeu-libre-21-05-2026/
CATEGORIES:Jeu libre
ATTACH;FMTTYPE=image/jpeg:https://www.badminton-castanet.fr/wp-content/uploads/2025/07/Image-jeu-libre.jpg
END:VEVENT
BEGIN:VEVENT
DTSTART;TZID=Europe/Paris:20260521T170000
DTEND;TZID=Europe/Paris:20260521T183000
DTSTAMP:20260423T161230
CREATED:20250924T081703Z
LAST-MODIFIED:20250924T081941Z
UID:2566-1779382800-1779388200@www.badminton-castanet.fr
SUMMARY:Entrainement Para-Bad - 21/05/2026
DESCRIPTION:
URL:https://www.badminton-castanet.fr/evenement/entrainement-para-bad-21-05-2026/
CATEGORIES:Entrainements
ATTACH;FMTTYPE=image/jpeg:https://www.badminton-castanet.fr/wp-content/uploads/2025/07/Photo-Benjamin-1.jpg
END:VEVENT
BEGIN:VEVENT
DTSTART;TZID=Europe/Paris:20260521T170000
DTEND;TZID=Europe/Paris:20260521T183000
DTSTAMP:20260423T161230
CREATED:20250924T082136Z
LAST-MODIFIED:20250924T082417Z
UID:2614-1779382800-1779388200@www.badminton-castanet.fr
SUMMARY:Entrainement Mini-Bad - 21/05/2026
DESCRIPTION:
URL:https://www.badminton-castanet.fr/evenement/entrainement-mini-bad-21-05-2026/
CATEGORIES:Entrainements
ATTACH;FMTTYPE=image/jpeg:https://www.badminton-castanet.fr/wp-content/uploads/2025/07/Photo-Benjamin-1.jpg
END:VEVENT
BEGIN:VEVENT
DTSTART;TZID=Europe/Paris:20260521T200000
DTEND;TZID=Europe/Paris:20260521T233000
DTSTAMP:20260423T161230
CREATED:20250911T131302Z
LAST-MODIFIED:20250911T131639Z
UID:1942-1779393600-1779406200@www.badminton-castanet.fr
SUMMARY:Jeu libre jeudi - 21/05/2026
DESCRIPTION:
URL:https://www.badminton-castanet.fr/evenement/jeu-libre-jeudi-21-05-2026/
CATEGORIES:Jeu libre
END:VEVENT
END:VCALENDAR