BEGIN:VCALENDAR
VERSION:2.0
PRODID:-//Badminton Club de Castanet - ECPv6.15.12.2//NONSGML v1.0//EN
CALSCALE:GREGORIAN
METHOD:PUBLISH
X-ORIGINAL-URL:https://www.badminton-castanet.fr
X-WR-CALDESC:Évènements pour Badminton Club de Castanet
REFRESH-INTERVAL;VALUE=DURATION:PT1H
X-Robots-Tag:noindex
X-PUBLISHED-TTL:PT1H
BEGIN:VTIMEZONE
TZID:Europe/Paris
BEGIN:DAYLIGHT
TZOFFSETFROM:+0100
TZOFFSETTO:+0200
TZNAME:CEST
DTSTART:20250330T010000
END:DAYLIGHT
BEGIN:STANDARD
TZOFFSETFROM:+0200
TZOFFSETTO:+0100
TZNAME:CET
DTSTART:20251026T010000
END:STANDARD
BEGIN:DAYLIGHT
TZOFFSETFROM:+0100
TZOFFSETTO:+0200
TZNAME:CEST
DTSTART:20260329T010000
END:DAYLIGHT
BEGIN:STANDARD
TZOFFSETFROM:+0200
TZOFFSETTO:+0100
TZNAME:CET
DTSTART:20261025T010000
END:STANDARD
BEGIN:DAYLIGHT
TZOFFSETFROM:+0100
TZOFFSETTO:+0200
TZNAME:CEST
DTSTART:20270328T010000
END:DAYLIGHT
BEGIN:STANDARD
TZOFFSETFROM:+0200
TZOFFSETTO:+0100
TZNAME:CET
DTSTART:20271031T010000
END:STANDARD
END:VTIMEZONE
BEGIN:VEVENT
DTSTART;TZID=Europe/Paris:20260602T170000
DTEND;TZID=Europe/Paris:20260602T233000
DTSTAMP:20260423T215535
CREATED:20250911T130953Z
LAST-MODIFIED:20250911T131526Z
UID:1895-1780419600-1780443000@www.badminton-castanet.fr
SUMMARY:Jeu libre mardi - 02/06/2026
DESCRIPTION:
URL:https://www.badminton-castanet.fr/evenement/jeu-libre-mardi-02-06-2026/
CATEGORIES:Jeu libre
ATTACH;FMTTYPE=image/jpeg:https://www.badminton-castanet.fr/wp-content/uploads/2025/07/Image-jeu-libre.jpg
END:VEVENT
BEGIN:VEVENT
DTSTART;TZID=Europe/Paris:20260602T173000
DTEND;TZID=Europe/Paris:20260602T190000
DTSTAMP:20260423T215535
CREATED:20250924T082928Z
LAST-MODIFIED:20250924T083125Z
UID:2664-1780421400-1780426800@www.badminton-castanet.fr
SUMMARY:Entrainement Jeunes - 02/06/2026
DESCRIPTION:
URL:https://www.badminton-castanet.fr/evenement/entrainement-jeunes-02-06-2026/
CATEGORIES:Entrainements
ATTACH;FMTTYPE=image/jpeg:https://www.badminton-castanet.fr/wp-content/uploads/2025/07/Photo-Benjamin-1.jpg
END:VEVENT
BEGIN:VEVENT
DTSTART;TZID=Europe/Paris:20260602T190000
DTEND;TZID=Europe/Paris:20260602T203000
DTSTAMP:20260423T215535
CREATED:20250924T083314Z
LAST-MODIFIED:20250924T083358Z
UID:2712-1780426800-1780432200@www.badminton-castanet.fr
SUMMARY:Entrainement Ados - 02/06/2026
DESCRIPTION:
URL:https://www.badminton-castanet.fr/evenement/entrainement-ados-02-06-2026/
CATEGORIES:Entrainements
ATTACH;FMTTYPE=image/jpeg:https://www.badminton-castanet.fr/wp-content/uploads/2025/07/Photo-Benjamin-1.jpg
END:VEVENT
BEGIN:VEVENT
DTSTART;TZID=Europe/Paris:20260602T203000
DTEND;TZID=Europe/Paris:20260602T214500
DTSTAMP:20260423T215535
CREATED:20250924T083540Z
LAST-MODIFIED:20250924T083622Z
UID:2760-1780432200-1780436700@www.badminton-castanet.fr
SUMMARY:Entrainement Adultes Débutants - 02/06/2026
DESCRIPTION:
URL:https://www.badminton-castanet.fr/evenement/entrainement-adultes-debutants-02-06-2026/
CATEGORIES:Entrainements
ATTACH;FMTTYPE=image/jpeg:https://www.badminton-castanet.fr/wp-content/uploads/2025/07/Photo-Benjamin-1.jpg
END:VEVENT
BEGIN:VEVENT
DTSTART;TZID=Europe/Paris:20260604T170000
DTEND;TZID=Europe/Paris:20260604T183000
DTSTAMP:20260423T215535
CREATED:20250911T132435Z
LAST-MODIFIED:20250911T133251Z
UID:2195-1780592400-1780597800@www.badminton-castanet.fr
SUMMARY:Jeu libre - 04/06/2026
DESCRIPTION:
URL:https://www.badminton-castanet.fr/evenement/jeu-libre-04-06-2026/
CATEGORIES:Jeu libre
ATTACH;FMTTYPE=image/jpeg:https://www.badminton-castanet.fr/wp-content/uploads/2025/07/Image-jeu-libre.jpg
END:VEVENT
BEGIN:VEVENT
DTSTART;TZID=Europe/Paris:20260604T170000
DTEND;TZID=Europe/Paris:20260604T183000
DTSTAMP:20260423T215535
CREATED:20250924T081703Z
LAST-MODIFIED:20250924T081941Z
UID:2568-1780592400-1780597800@www.badminton-castanet.fr
SUMMARY:Entrainement Para-Bad - 04/06/2026
DESCRIPTION:
URL:https://www.badminton-castanet.fr/evenement/entrainement-para-bad-04-06-2026/
CATEGORIES:Entrainements
ATTACH;FMTTYPE=image/jpeg:https://www.badminton-castanet.fr/wp-content/uploads/2025/07/Photo-Benjamin-1.jpg
END:VEVENT
BEGIN:VEVENT
DTSTART;TZID=Europe/Paris:20260604T170000
DTEND;TZID=Europe/Paris:20260604T183000
DTSTAMP:20260423T215535
CREATED:20250924T082137Z
LAST-MODIFIED:20250924T082417Z
UID:2616-1780592400-1780597800@www.badminton-castanet.fr
SUMMARY:Entrainement Mini-Bad - 04/06/2026
DESCRIPTION:
URL:https://www.badminton-castanet.fr/evenement/entrainement-mini-bad-04-06-2026/
CATEGORIES:Entrainements
ATTACH;FMTTYPE=image/jpeg:https://www.badminton-castanet.fr/wp-content/uploads/2025/07/Photo-Benjamin-1.jpg
END:VEVENT
BEGIN:VEVENT
DTSTART;TZID=Europe/Paris:20260604T200000
DTEND;TZID=Europe/Paris:20260604T233000
DTSTAMP:20260423T215535
CREATED:20250911T131302Z
LAST-MODIFIED:20250911T131639Z
UID:1944-1780603200-1780615800@www.badminton-castanet.fr
SUMMARY:Jeu libre jeudi - 04/06/2026
DESCRIPTION:
URL:https://www.badminton-castanet.fr/evenement/jeu-libre-jeudi-04-06-2026/
CATEGORIES:Jeu libre
END:VEVENT
BEGIN:VEVENT
DTSTART;TZID=Europe/Paris:20260604T201500
DTEND;TZID=Europe/Paris:20260604T213000
DTSTAMP:20260423T215535
CREATED:20250924T074426Z
LAST-MODIFIED:20250924T074508Z
UID:2505-1780604100-1780608600@www.badminton-castanet.fr
SUMMARY:Entrainement Adultes confirmés - 04/06/2026
DESCRIPTION:
URL:https://www.badminton-castanet.fr/evenement/entrainement-adultes-confirmes-04-06-2026/
CATEGORIES:Entrainements
ATTACH;FMTTYPE=image/jpeg:https://www.badminton-castanet.fr/wp-content/uploads/2025/07/Photo-Benjamin-1.jpg
END:VEVENT
BEGIN:VEVENT
DTSTART;TZID=Europe/Paris:20260604T213000
DTEND;TZID=Europe/Paris:20260604T224500
DTSTAMP:20260423T215535
CREATED:20250924T081148Z
LAST-MODIFIED:20250924T081240Z
UID:2531-1780608600-1780613100@www.badminton-castanet.fr
SUMMARY:Entrainement Adultes Intermédiaires - 04/06/2026
DESCRIPTION:
URL:https://www.badminton-castanet.fr/evenement/entrainement-adultes-intermediaires-04-06-2026/
CATEGORIES:Entrainements
ATTACH;FMTTYPE=image/jpeg:https://www.badminton-castanet.fr/wp-content/uploads/2025/07/Photo-Benjamin-1.jpg
END:VEVENT
BEGIN:VEVENT
DTSTART;TZID=Europe/Paris:20260605T170000
DTEND;TZID=Europe/Paris:20260605T190000
DTSTAMP:20260423T215535
CREATED:20250911T131345Z
LAST-MODIFIED:20250911T131626Z
UID:1969-1780678800-1780686000@www.badminton-castanet.fr
SUMMARY:Jeu libre - 05/06/2026
DESCRIPTION:
URL:https://www.badminton-castanet.fr/evenement/jeu-libre-05-06-2026/
CATEGORIES:Jeu libre
ATTACH;FMTTYPE=image/jpeg:https://www.badminton-castanet.fr/wp-content/uploads/2025/07/Image-jeu-libre.jpg
END:VEVENT
BEGIN:VEVENT
DTSTART;TZID=Europe/Paris:20260606T110000
DTEND;TZID=Europe/Paris:20260606T140000
DTSTAMP:20260423T215535
CREATED:20250911T131436Z
LAST-MODIFIED:20250911T132140Z
UID:1994-1780743600-1780754400@www.badminton-castanet.fr
SUMMARY:Jeu libre - 06/06/2026
DESCRIPTION:
URL:https://www.badminton-castanet.fr/evenement/jeu-libre-06-06-2026/
CATEGORIES:Jeu libre
ATTACH;FMTTYPE=image/jpeg:https://www.badminton-castanet.fr/wp-content/uploads/2025/07/Image-jeu-libre.jpg
END:VEVENT
BEGIN:VEVENT
DTSTART;TZID=Europe/Paris:20260607T170000
DTEND;TZID=Europe/Paris:20260607T210000
DTSTAMP:20260423T215535
CREATED:20250911T132041Z
LAST-MODIFIED:20250911T132612Z
UID:2144-1780851600-1780866000@www.badminton-castanet.fr
SUMMARY:Jeu libre - 07/06/2026
DESCRIPTION:
URL:https://www.badminton-castanet.fr/evenement/jeu-libre-07-06-2026/
CATEGORIES:Jeu libre
ATTACH;FMTTYPE=image/jpeg:https://www.badminton-castanet.fr/wp-content/uploads/2025/07/Image-jeu-libre.jpg
END:VEVENT
BEGIN:VEVENT
DTSTART;TZID=Europe/Paris:20260609T170000
DTEND;TZID=Europe/Paris:20260609T233000
DTSTAMP:20260423T215535
CREATED:20250911T130953Z
LAST-MODIFIED:20250911T131526Z
UID:1896-1781024400-1781047800@www.badminton-castanet.fr
SUMMARY:Jeu libre mardi - 09/06/2026
DESCRIPTION:
URL:https://www.badminton-castanet.fr/evenement/jeu-libre-mardi-09-06-2026/
CATEGORIES:Jeu libre
ATTACH;FMTTYPE=image/jpeg:https://www.badminton-castanet.fr/wp-content/uploads/2025/07/Image-jeu-libre.jpg
END:VEVENT
BEGIN:VEVENT
DTSTART;TZID=Europe/Paris:20260609T173000
DTEND;TZID=Europe/Paris:20260609T190000
DTSTAMP:20260423T215535
CREATED:20250924T082929Z
LAST-MODIFIED:20250924T083124Z
UID:2665-1781026200-1781031600@www.badminton-castanet.fr
SUMMARY:Entrainement Jeunes - 09/06/2026
DESCRIPTION:
URL:https://www.badminton-castanet.fr/evenement/entrainement-jeunes-09-06-2026/
CATEGORIES:Entrainements
ATTACH;FMTTYPE=image/jpeg:https://www.badminton-castanet.fr/wp-content/uploads/2025/07/Photo-Benjamin-1.jpg
END:VEVENT
BEGIN:VEVENT
DTSTART;TZID=Europe/Paris:20260609T190000
DTEND;TZID=Europe/Paris:20260609T203000
DTSTAMP:20260423T215535
CREATED:20250924T083314Z
LAST-MODIFIED:20250924T083358Z
UID:2713-1781031600-1781037000@www.badminton-castanet.fr
SUMMARY:Entrainement Ados - 09/06/2026
DESCRIPTION:
URL:https://www.badminton-castanet.fr/evenement/entrainement-ados-09-06-2026/
CATEGORIES:Entrainements
ATTACH;FMTTYPE=image/jpeg:https://www.badminton-castanet.fr/wp-content/uploads/2025/07/Photo-Benjamin-1.jpg
END:VEVENT
BEGIN:VEVENT
DTSTART;TZID=Europe/Paris:20260609T203000
DTEND;TZID=Europe/Paris:20260609T214500
DTSTAMP:20260423T215535
CREATED:20250924T083541Z
LAST-MODIFIED:20250924T083622Z
UID:2761-1781037000-1781041500@www.badminton-castanet.fr
SUMMARY:Entrainement Adultes Débutants - 09/06/2026
DESCRIPTION:
URL:https://www.badminton-castanet.fr/evenement/entrainement-adultes-debutants-09-06-2026/
CATEGORIES:Entrainements
ATTACH;FMTTYPE=image/jpeg:https://www.badminton-castanet.fr/wp-content/uploads/2025/07/Photo-Benjamin-1.jpg
END:VEVENT
BEGIN:VEVENT
DTSTART;TZID=Europe/Paris:20260611T170000
DTEND;TZID=Europe/Paris:20260611T183000
DTSTAMP:20260423T215535
CREATED:20250911T132435Z
LAST-MODIFIED:20250911T133251Z
UID:2196-1781197200-1781202600@www.badminton-castanet.fr
SUMMARY:Jeu libre - 11/06/2026
DESCRIPTION:
URL:https://www.badminton-castanet.fr/evenement/jeu-libre-11-06-2026/
CATEGORIES:Jeu libre
ATTACH;FMTTYPE=image/jpeg:https://www.badminton-castanet.fr/wp-content/uploads/2025/07/Image-jeu-libre.jpg
END:VEVENT
BEGIN:VEVENT
DTSTART;TZID=Europe/Paris:20260611T170000
DTEND;TZID=Europe/Paris:20260611T183000
DTSTAMP:20260423T215535
CREATED:20250924T081703Z
LAST-MODIFIED:20250924T081941Z
UID:2569-1781197200-1781202600@www.badminton-castanet.fr
SUMMARY:Entrainement Para-Bad - 11/06/2026
DESCRIPTION:
URL:https://www.badminton-castanet.fr/evenement/entrainement-para-bad-11-06-2026/
CATEGORIES:Entrainements
ATTACH;FMTTYPE=image/jpeg:https://www.badminton-castanet.fr/wp-content/uploads/2025/07/Photo-Benjamin-1.jpg
END:VEVENT
BEGIN:VEVENT
DTSTART;TZID=Europe/Paris:20260611T170000
DTEND;TZID=Europe/Paris:20260611T183000
DTSTAMP:20260423T215535
CREATED:20250924T082137Z
LAST-MODIFIED:20250924T082417Z
UID:2617-1781197200-1781202600@www.badminton-castanet.fr
SUMMARY:Entrainement Mini-Bad - 11/06/2026
DESCRIPTION:
URL:https://www.badminton-castanet.fr/evenement/entrainement-mini-bad-11-06-2026/
CATEGORIES:Entrainements
ATTACH;FMTTYPE=image/jpeg:https://www.badminton-castanet.fr/wp-content/uploads/2025/07/Photo-Benjamin-1.jpg
END:VEVENT
BEGIN:VEVENT
DTSTART;TZID=Europe/Paris:20260611T200000
DTEND;TZID=Europe/Paris:20260611T233000
DTSTAMP:20260423T215535
CREATED:20250911T131302Z
LAST-MODIFIED:20250911T131639Z
UID:1945-1781208000-1781220600@www.badminton-castanet.fr
SUMMARY:Jeu libre jeudi - 11/06/2026
DESCRIPTION:
URL:https://www.badminton-castanet.fr/evenement/jeu-libre-jeudi-11-06-2026/
CATEGORIES:Jeu libre
END:VEVENT
BEGIN:VEVENT
DTSTART;TZID=Europe/Paris:20260611T201500
DTEND;TZID=Europe/Paris:20260611T213000
DTSTAMP:20260423T215535
CREATED:20250924T074426Z
LAST-MODIFIED:20250924T074508Z
UID:2506-1781208900-1781213400@www.badminton-castanet.fr
SUMMARY:Entrainement Adultes confirmés - 11/06/2026
DESCRIPTION:
URL:https://www.badminton-castanet.fr/evenement/entrainement-adultes-confirmes-11-06-2026/
CATEGORIES:Entrainements
ATTACH;FMTTYPE=image/jpeg:https://www.badminton-castanet.fr/wp-content/uploads/2025/07/Photo-Benjamin-1.jpg
END:VEVENT
BEGIN:VEVENT
DTSTART;TZID=Europe/Paris:20260611T213000
DTEND;TZID=Europe/Paris:20260611T224500
DTSTAMP:20260423T215535
CREATED:20250924T081148Z
LAST-MODIFIED:20250924T081240Z
UID:2532-1781213400-1781217900@www.badminton-castanet.fr
SUMMARY:Entrainement Adultes Intermédiaires - 11/06/2026
DESCRIPTION:
URL:https://www.badminton-castanet.fr/evenement/entrainement-adultes-intermediaires-11-06-2026/
CATEGORIES:Entrainements
ATTACH;FMTTYPE=image/jpeg:https://www.badminton-castanet.fr/wp-content/uploads/2025/07/Photo-Benjamin-1.jpg
END:VEVENT
BEGIN:VEVENT
DTSTART;TZID=Europe/Paris:20260612T170000
DTEND;TZID=Europe/Paris:20260612T190000
DTSTAMP:20260423T215535
CREATED:20250911T131345Z
LAST-MODIFIED:20250911T131626Z
UID:1970-1781283600-1781290800@www.badminton-castanet.fr
SUMMARY:Jeu libre - 12/06/2026
DESCRIPTION:
URL:https://www.badminton-castanet.fr/evenement/jeu-libre-12-06-2026/
CATEGORIES:Jeu libre
ATTACH;FMTTYPE=image/jpeg:https://www.badminton-castanet.fr/wp-content/uploads/2025/07/Image-jeu-libre.jpg
END:VEVENT
BEGIN:VEVENT
DTSTART;TZID=Europe/Paris:20260613T110000
DTEND;TZID=Europe/Paris:20260613T140000
DTSTAMP:20260423T215535
CREATED:20250911T131436Z
LAST-MODIFIED:20250911T132140Z
UID:1995-1781348400-1781359200@www.badminton-castanet.fr
SUMMARY:Jeu libre - 13/06/2026
DESCRIPTION:
URL:https://www.badminton-castanet.fr/evenement/jeu-libre-13-06-2026/
CATEGORIES:Jeu libre
ATTACH;FMTTYPE=image/jpeg:https://www.badminton-castanet.fr/wp-content/uploads/2025/07/Image-jeu-libre.jpg
END:VEVENT
BEGIN:VEVENT
DTSTART;TZID=Europe/Paris:20260614T170000
DTEND;TZID=Europe/Paris:20260614T210000
DTSTAMP:20260423T215535
CREATED:20250911T132041Z
LAST-MODIFIED:20250911T132612Z
UID:2145-1781456400-1781470800@www.badminton-castanet.fr
SUMMARY:Jeu libre - 14/06/2026
DESCRIPTION:
URL:https://www.badminton-castanet.fr/evenement/jeu-libre-14-06-2026/
CATEGORIES:Jeu libre
ATTACH;FMTTYPE=image/jpeg:https://www.badminton-castanet.fr/wp-content/uploads/2025/07/Image-jeu-libre.jpg
END:VEVENT
BEGIN:VEVENT
DTSTART;TZID=Europe/Paris:20260616T170000
DTEND;TZID=Europe/Paris:20260616T233000
DTSTAMP:20260423T215535
CREATED:20250911T130953Z
LAST-MODIFIED:20250911T131525Z
UID:1897-1781629200-1781652600@www.badminton-castanet.fr
SUMMARY:Jeu libre mardi - 16/06/2026
DESCRIPTION:
URL:https://www.badminton-castanet.fr/evenement/jeu-libre-mardi-16-06-2026/
CATEGORIES:Jeu libre
ATTACH;FMTTYPE=image/jpeg:https://www.badminton-castanet.fr/wp-content/uploads/2025/07/Image-jeu-libre.jpg
END:VEVENT
BEGIN:VEVENT
DTSTART;TZID=Europe/Paris:20260616T173000
DTEND;TZID=Europe/Paris:20260616T190000
DTSTAMP:20260423T215535
CREATED:20250924T082929Z
LAST-MODIFIED:20250924T083124Z
UID:2666-1781631000-1781636400@www.badminton-castanet.fr
SUMMARY:Entrainement Jeunes - 16/06/2026
DESCRIPTION:
URL:https://www.badminton-castanet.fr/evenement/entrainement-jeunes-16-06-2026/
CATEGORIES:Entrainements
ATTACH;FMTTYPE=image/jpeg:https://www.badminton-castanet.fr/wp-content/uploads/2025/07/Photo-Benjamin-1.jpg
END:VEVENT
BEGIN:VEVENT
DTSTART;TZID=Europe/Paris:20260616T190000
DTEND;TZID=Europe/Paris:20260616T203000
DTSTAMP:20260423T215535
CREATED:20250924T083314Z
LAST-MODIFIED:20250924T083358Z
UID:2714-1781636400-1781641800@www.badminton-castanet.fr
SUMMARY:Entrainement Ados - 16/06/2026
DESCRIPTION:
URL:https://www.badminton-castanet.fr/evenement/entrainement-ados-16-06-2026/
CATEGORIES:Entrainements
ATTACH;FMTTYPE=image/jpeg:https://www.badminton-castanet.fr/wp-content/uploads/2025/07/Photo-Benjamin-1.jpg
END:VEVENT
BEGIN:VEVENT
DTSTART;TZID=Europe/Paris:20260616T203000
DTEND;TZID=Europe/Paris:20260616T214500
DTSTAMP:20260423T215535
CREATED:20250924T083541Z
LAST-MODIFIED:20250924T083622Z
UID:2762-1781641800-1781646300@www.badminton-castanet.fr
SUMMARY:Entrainement Adultes Débutants - 16/06/2026
DESCRIPTION:
URL:https://www.badminton-castanet.fr/evenement/entrainement-adultes-debutants-16-06-2026/
CATEGORIES:Entrainements
ATTACH;FMTTYPE=image/jpeg:https://www.badminton-castanet.fr/wp-content/uploads/2025/07/Photo-Benjamin-1.jpg
END:VEVENT
END:VCALENDAR