BEGIN:VCALENDAR
VERSION:2.0
PRODID:-//Badminton Club de Castanet - ECPv6.15.12.2//NONSGML v1.0//EN
CALSCALE:GREGORIAN
METHOD:PUBLISH
X-ORIGINAL-URL:https://www.badminton-castanet.fr
X-WR-CALDESC:Évènements pour Badminton Club de Castanet
REFRESH-INTERVAL;VALUE=DURATION:PT1H
X-Robots-Tag:noindex
X-PUBLISHED-TTL:PT1H
BEGIN:VTIMEZONE
TZID:Europe/Paris
BEGIN:DAYLIGHT
TZOFFSETFROM:+0100
TZOFFSETTO:+0200
TZNAME:CEST
DTSTART:20240331T010000
END:DAYLIGHT
BEGIN:STANDARD
TZOFFSETFROM:+0200
TZOFFSETTO:+0100
TZNAME:CET
DTSTART:20241027T010000
END:STANDARD
BEGIN:DAYLIGHT
TZOFFSETFROM:+0100
TZOFFSETTO:+0200
TZNAME:CEST
DTSTART:20250330T010000
END:DAYLIGHT
BEGIN:STANDARD
TZOFFSETFROM:+0200
TZOFFSETTO:+0100
TZNAME:CET
DTSTART:20251026T010000
END:STANDARD
BEGIN:DAYLIGHT
TZOFFSETFROM:+0100
TZOFFSETTO:+0200
TZNAME:CEST
DTSTART:20260329T010000
END:DAYLIGHT
BEGIN:STANDARD
TZOFFSETFROM:+0200
TZOFFSETTO:+0100
TZNAME:CET
DTSTART:20261025T010000
END:STANDARD
BEGIN:DAYLIGHT
TZOFFSETFROM:+0100
TZOFFSETTO:+0200
TZNAME:CEST
DTSTART:20270328T010000
END:DAYLIGHT
BEGIN:STANDARD
TZOFFSETFROM:+0200
TZOFFSETTO:+0100
TZNAME:CET
DTSTART:20271031T010000
END:STANDARD
END:VTIMEZONE
BEGIN:VEVENT
DTSTART;VALUE=DATE:20251220
DTEND;VALUE=DATE:20260105
DTSTAMP:20260423T191221
CREATED:20250722T125556Z
LAST-MODIFIED:20250722T125556Z
UID:607-1766188800-1767571199@www.badminton-castanet.fr
SUMMARY:Vacances scolaires de Noël
DESCRIPTION:
URL:https://www.badminton-castanet.fr/evenement/vacances-scolaires-de-noel/
CATEGORIES:Vacances scolaires
END:VEVENT
BEGIN:VEVENT
DTSTART;TZID=Europe/Paris:20260102T170000
DTEND;TZID=Europe/Paris:20260102T190000
DTSTAMP:20260423T191221
CREATED:20250911T131344Z
LAST-MODIFIED:20250911T131639Z
UID:1947-1767373200-1767380400@www.badminton-castanet.fr
SUMMARY:Jeu libre - 02/01/2026
DESCRIPTION:
URL:https://www.badminton-castanet.fr/evenement/jeu-libre-02-01-2026-2/
CATEGORIES:Jeu libre
ATTACH;FMTTYPE=image/jpeg:https://www.badminton-castanet.fr/wp-content/uploads/2025/07/Image-jeu-libre.jpg
END:VEVENT
BEGIN:VEVENT
DTSTART;TZID=Europe/Paris:20260103T110000
DTEND;TZID=Europe/Paris:20260103T140000
DTSTAMP:20260423T191221
CREATED:20250911T131436Z
LAST-MODIFIED:20250911T131625Z
UID:1972-1767438000-1767448800@www.badminton-castanet.fr
SUMMARY:Jeu libre - 03/01/2026
DESCRIPTION:
URL:https://www.badminton-castanet.fr/evenement/jeu-libre-03-01-2026-2/
CATEGORIES:Jeu libre
ATTACH;FMTTYPE=image/jpeg:https://www.badminton-castanet.fr/wp-content/uploads/2025/07/Image-jeu-libre.jpg
END:VEVENT
BEGIN:VEVENT
DTSTART;TZID=Europe/Paris:20260104T170000
DTEND;TZID=Europe/Paris:20260104T210000
DTSTAMP:20260423T191221
CREATED:20250911T132041Z
LAST-MODIFIED:20250911T132140Z
UID:2122-1767546000-1767560400@www.badminton-castanet.fr
SUMMARY:Jeu libre - 04/01/2026
DESCRIPTION:
URL:https://www.badminton-castanet.fr/evenement/jeu-libre-04-01-2026/
CATEGORIES:Jeu libre
ATTACH;FMTTYPE=image/jpeg:https://www.badminton-castanet.fr/wp-content/uploads/2025/07/Image-jeu-libre.jpg
END:VEVENT
BEGIN:VEVENT
DTSTART;TZID=Europe/Paris:20260106T170000
DTEND;TZID=Europe/Paris:20260106T233000
DTSTAMP:20260423T191221
CREATED:20250911T130953Z
LAST-MODIFIED:20250911T131104Z
UID:1874-1767718800-1767742200@www.badminton-castanet.fr
SUMMARY:Jeu libre mardi - 06/01/2026
DESCRIPTION:
URL:https://www.badminton-castanet.fr/evenement/jeu-libre-mardi-06-01-2026/
CATEGORIES:Jeu libre
ATTACH;FMTTYPE=image/jpeg:https://www.badminton-castanet.fr/wp-content/uploads/2025/07/Image-jeu-libre.jpg
END:VEVENT
BEGIN:VEVENT
DTSTART;TZID=Europe/Paris:20260106T173000
DTEND;TZID=Europe/Paris:20260106T190000
DTSTAMP:20260423T191221
CREATED:20250924T082927Z
LAST-MODIFIED:20250924T083154Z
UID:2643-1767720600-1767726000@www.badminton-castanet.fr
SUMMARY:Entrainement Jeunes - 06/01/2026
DESCRIPTION:
URL:https://www.badminton-castanet.fr/evenement/entrainement-jeunes-06-01-2026/
CATEGORIES:Entrainements
ATTACH;FMTTYPE=image/jpeg:https://www.badminton-castanet.fr/wp-content/uploads/2025/07/Photo-Benjamin-1.jpg
END:VEVENT
BEGIN:VEVENT
DTSTART;TZID=Europe/Paris:20260106T190000
DTEND;TZID=Europe/Paris:20260106T203000
DTSTAMP:20260423T191221
CREATED:20250924T083313Z
LAST-MODIFIED:20250924T083430Z
UID:2691-1767726000-1767731400@www.badminton-castanet.fr
SUMMARY:Entrainement Ados - 06/01/2026
DESCRIPTION:
URL:https://www.badminton-castanet.fr/evenement/entrainement-ados-06-01-2026/
CATEGORIES:Entrainements
ATTACH;FMTTYPE=image/jpeg:https://www.badminton-castanet.fr/wp-content/uploads/2025/07/Photo-Benjamin-1.jpg
END:VEVENT
BEGIN:VEVENT
DTSTART;TZID=Europe/Paris:20260106T203000
DTEND;TZID=Europe/Paris:20260106T214500
DTSTAMP:20260423T191221
CREATED:20250924T083539Z
LAST-MODIFIED:20250924T083710Z
UID:2739-1767731400-1767735900@www.badminton-castanet.fr
SUMMARY:Entrainement Adultes Débutants - 06/01/2026
DESCRIPTION:
URL:https://www.badminton-castanet.fr/evenement/entrainement-adultes-debutants-06-01-2026/
CATEGORIES:Entrainements
ATTACH;FMTTYPE=image/jpeg:https://www.badminton-castanet.fr/wp-content/uploads/2025/07/Photo-Benjamin-1.jpg
END:VEVENT
BEGIN:VEVENT
DTSTART;TZID=Europe/Paris:20260108T170000
DTEND;TZID=Europe/Paris:20260108T183000
DTSTAMP:20260423T191221
CREATED:20250911T132435Z
LAST-MODIFIED:20250911T132612Z
UID:2174-1767891600-1767897000@www.badminton-castanet.fr
SUMMARY:Jeu libre - 08/01/2026
DESCRIPTION:
URL:https://www.badminton-castanet.fr/evenement/jeu-libre-08-01-2026/
CATEGORIES:Jeu libre
ATTACH;FMTTYPE=image/jpeg:https://www.badminton-castanet.fr/wp-content/uploads/2025/07/Image-jeu-libre.jpg
END:VEVENT
BEGIN:VEVENT
DTSTART;TZID=Europe/Paris:20260108T170000
DTEND;TZID=Europe/Paris:20260108T183000
DTSTAMP:20260423T191221
CREATED:20250924T081701Z
LAST-MODIFIED:20250924T081942Z
UID:2547-1767891600-1767897000@www.badminton-castanet.fr
SUMMARY:Entrainement Para-Bad - 08/01/2026
DESCRIPTION:
URL:https://www.badminton-castanet.fr/evenement/entrainement-para-bad-08-01-2026/
CATEGORIES:Entrainements
ATTACH;FMTTYPE=image/jpeg:https://www.badminton-castanet.fr/wp-content/uploads/2025/07/Photo-Benjamin-1.jpg
END:VEVENT
BEGIN:VEVENT
DTSTART;TZID=Europe/Paris:20260108T170000
DTEND;TZID=Europe/Paris:20260108T183000
DTSTAMP:20260423T191221
CREATED:20250924T082135Z
LAST-MODIFIED:20250924T082418Z
UID:2595-1767891600-1767897000@www.badminton-castanet.fr
SUMMARY:Entrainement Mini-Bad - 08/01/2026
DESCRIPTION:
URL:https://www.badminton-castanet.fr/evenement/entrainement-mini-bad-08-01-2026/
CATEGORIES:Entrainements
ATTACH;FMTTYPE=image/jpeg:https://www.badminton-castanet.fr/wp-content/uploads/2025/07/Photo-Benjamin-1.jpg
END:VEVENT
BEGIN:VEVENT
DTSTART;TZID=Europe/Paris:20260108T200000
DTEND;TZID=Europe/Paris:20260108T233000
DTSTAMP:20260423T191221
CREATED:20250911T131301Z
LAST-MODIFIED:20250911T131701Z
UID:1923-1767902400-1767915000@www.badminton-castanet.fr
SUMMARY:Jeu libre jeudi - 08/01/2026
DESCRIPTION:
URL:https://www.badminton-castanet.fr/evenement/jeu-libre-jeudi-08-01-2026/
CATEGORIES:Jeu libre
END:VEVENT
BEGIN:VEVENT
DTSTART;TZID=Europe/Paris:20260108T201500
DTEND;TZID=Europe/Paris:20260108T213000
DTSTAMP:20260423T191221
CREATED:20250924T072750Z
LAST-MODIFIED:20250924T081241Z
UID:2467-1767903300-1767907800@www.badminton-castanet.fr
SUMMARY:Entrainement Adultes Intermédiaires - 08/01/2026
DESCRIPTION:
URL:https://www.badminton-castanet.fr/evenement/entrainement-adultes-intermediaires-08-01-2026/
CATEGORIES:Entrainements
ATTACH;FMTTYPE=image/jpeg:https://www.badminton-castanet.fr/wp-content/uploads/2025/07/Photo-Benjamin-1.jpg
END:VEVENT
BEGIN:VEVENT
DTSTART;TZID=Europe/Paris:20260108T213000
DTEND;TZID=Europe/Paris:20260108T224500
DTSTAMP:20260423T191221
CREATED:20250924T073723Z
LAST-MODIFIED:20250924T074509Z
UID:2481-1767907800-1767912300@www.badminton-castanet.fr
SUMMARY:Entrainement Adultes confirmés - 08/01/2026
DESCRIPTION:
URL:https://www.badminton-castanet.fr/evenement/entrainement-adultes-confirmes-08-01-2026/
CATEGORIES:Entrainements
ATTACH;FMTTYPE=image/jpeg:https://www.badminton-castanet.fr/wp-content/uploads/2025/07/Photo-Benjamin-1.jpg
END:VEVENT
BEGIN:VEVENT
DTSTART;TZID=Europe/Paris:20260109T170000
DTEND;TZID=Europe/Paris:20260109T190000
DTSTAMP:20260423T191221
CREATED:20250911T131344Z
LAST-MODIFIED:20250911T131639Z
UID:1948-1767978000-1767985200@www.badminton-castanet.fr
SUMMARY:Jeu libre - 09/01/2026
DESCRIPTION:
URL:https://www.badminton-castanet.fr/evenement/jeu-libre-09-01-2026/
CATEGORIES:Jeu libre
ATTACH;FMTTYPE=image/jpeg:https://www.badminton-castanet.fr/wp-content/uploads/2025/07/Image-jeu-libre.jpg
END:VEVENT
BEGIN:VEVENT
DTSTART;TZID=Europe/Paris:20260109T200000
DTEND;TZID=Europe/Paris:20260109T233000
DTSTAMP:20260423T191221
CREATED:20251108T172008Z
LAST-MODIFIED:20251108T172008Z
UID:2939-1767988800-1768001400@www.badminton-castanet.fr
SUMMARY:Interclub EXTÉRIEUR Départemental 2 Équipe 2 - 09/01/2026
DESCRIPTION:Rencontre Interclub de l’équipe 2 en Départemental 2. \nSAINT ORENS
URL:https://www.badminton-castanet.fr/evenement/interclub-exterieur-departemental-2-equipe-2-09-01-2026/
CATEGORIES:Compétitions
ATTACH;FMTTYPE=image/jpeg:https://www.badminton-castanet.fr/wp-content/uploads/2025/10/2025-2026-Equipe-2-scaled.jpg
END:VEVENT
BEGIN:VEVENT
DTSTART;TZID=Europe/Paris:20260110T110000
DTEND;TZID=Europe/Paris:20260110T140000
DTSTAMP:20260423T191221
CREATED:20250911T131436Z
LAST-MODIFIED:20250911T131625Z
UID:1973-1768042800-1768053600@www.badminton-castanet.fr
SUMMARY:Jeu libre - 10/01/2026
DESCRIPTION:
URL:https://www.badminton-castanet.fr/evenement/jeu-libre-10-01-2026/
CATEGORIES:Jeu libre
ATTACH;FMTTYPE=image/jpeg:https://www.badminton-castanet.fr/wp-content/uploads/2025/07/Image-jeu-libre.jpg
END:VEVENT
BEGIN:VEVENT
DTSTART;TZID=Europe/Paris:20260111T090000
DTEND;TZID=Europe/Paris:20260111T170000
DTSTAMP:20260423T191221
CREATED:20251103T192840Z
LAST-MODIFIED:20251103T193036Z
UID:2892-1768122000-1768150800@www.badminton-castanet.fr
SUMMARY:Tournoi INTERNE Badminton du Club 11/01/2026
DESCRIPTION:
URL:https://www.badminton-castanet.fr/evenement/tournoi-interne-badminton-du-club-11-01-2026/
CATEGORIES:Compétitions
ATTACH;FMTTYPE=image/svg+xml:https://www.badminton-castanet.fr/wp-content/uploads/2025/07/logo.svg
END:VEVENT
BEGIN:VEVENT
DTSTART;TZID=Europe/Paris:20260111T170000
DTEND;TZID=Europe/Paris:20260111T210000
DTSTAMP:20260423T191221
CREATED:20250911T132041Z
LAST-MODIFIED:20250911T132140Z
UID:2123-1768150800-1768165200@www.badminton-castanet.fr
SUMMARY:Jeu libre - 11/01/2026
DESCRIPTION:
URL:https://www.badminton-castanet.fr/evenement/jeu-libre-11-01-2026/
CATEGORIES:Jeu libre
ATTACH;FMTTYPE=image/jpeg:https://www.badminton-castanet.fr/wp-content/uploads/2025/07/Image-jeu-libre.jpg
END:VEVENT
BEGIN:VEVENT
DTSTART;TZID=Europe/Paris:20260113T170000
DTEND;TZID=Europe/Paris:20260113T233000
DTSTAMP:20260423T191221
CREATED:20250911T130953Z
LAST-MODIFIED:20250911T131104Z
UID:1875-1768323600-1768347000@www.badminton-castanet.fr
SUMMARY:Jeu libre mardi - 13/01/2026
DESCRIPTION:
URL:https://www.badminton-castanet.fr/evenement/jeu-libre-mardi-13-01-2026/
CATEGORIES:Jeu libre
ATTACH;FMTTYPE=image/jpeg:https://www.badminton-castanet.fr/wp-content/uploads/2025/07/Image-jeu-libre.jpg
END:VEVENT
BEGIN:VEVENT
DTSTART;TZID=Europe/Paris:20260113T173000
DTEND;TZID=Europe/Paris:20260113T190000
DTSTAMP:20260423T191221
CREATED:20250924T082927Z
LAST-MODIFIED:20250924T083154Z
UID:2644-1768325400-1768330800@www.badminton-castanet.fr
SUMMARY:Entrainement Jeunes - 13/01/2026
DESCRIPTION:
URL:https://www.badminton-castanet.fr/evenement/entrainement-jeunes-13-01-2026/
CATEGORIES:Entrainements
ATTACH;FMTTYPE=image/jpeg:https://www.badminton-castanet.fr/wp-content/uploads/2025/07/Photo-Benjamin-1.jpg
END:VEVENT
BEGIN:VEVENT
DTSTART;TZID=Europe/Paris:20260113T190000
DTEND;TZID=Europe/Paris:20260113T203000
DTSTAMP:20260423T191221
CREATED:20250924T083313Z
LAST-MODIFIED:20250924T083429Z
UID:2692-1768330800-1768336200@www.badminton-castanet.fr
SUMMARY:Entrainement Ados - 13/01/2026
DESCRIPTION:
URL:https://www.badminton-castanet.fr/evenement/entrainement-ados-13-01-2026/
CATEGORIES:Entrainements
ATTACH;FMTTYPE=image/jpeg:https://www.badminton-castanet.fr/wp-content/uploads/2025/07/Photo-Benjamin-1.jpg
END:VEVENT
BEGIN:VEVENT
DTSTART;TZID=Europe/Paris:20260113T200000
DTEND;TZID=Europe/Paris:20260113T233000
DTSTAMP:20260423T191221
CREATED:20251020T071910Z
LAST-MODIFIED:20251108T173239Z
UID:2843-1768334400-1768347000@www.badminton-castanet.fr
SUMMARY:Interclub Départemental 2 Équipe 2 - 13/01/2026
DESCRIPTION:Rencontre Interclub de l’équipe 2 en Départemental 2. J5 au Gymnase Jean Jaurès de CASTANET
URL:https://www.badminton-castanet.fr/evenement/interclub-departemental-2-equipe-2-13-01-2026/
LOCATION:Castanet
CATEGORIES:Compétitions
ATTACH;FMTTYPE=image/jpeg:https://www.badminton-castanet.fr/wp-content/uploads/2025/10/2025-2026-Equipe-2-scaled.jpg
END:VEVENT
BEGIN:VEVENT
DTSTART;TZID=Europe/Paris:20260113T200000
DTEND;TZID=Europe/Paris:20260113T233000
DTSTAMP:20260423T191221
CREATED:20251022T093427Z
LAST-MODIFIED:20251108T173155Z
UID:2856-1768334400-1768347000@www.badminton-castanet.fr
SUMMARY:Interclub Départemental 3 Équipe 3 - 13/01/2026
DESCRIPTION:Rencontre Interclub de l’équipe 3 en Départemental 3. J5 au Gymnase Jean Jaurès de CASTANET
URL:https://www.badminton-castanet.fr/evenement/interclub-departemental-3-equipe-3-13-01-2026/
LOCATION:Castanet
CATEGORIES:Compétitions
ATTACH;FMTTYPE=image/jpeg:https://www.badminton-castanet.fr/wp-content/uploads/2025/10/2025-2026-Equipe-3-scaled.jpg
END:VEVENT
BEGIN:VEVENT
DTSTART;TZID=Europe/Paris:20260113T203000
DTEND;TZID=Europe/Paris:20260113T214500
DTSTAMP:20260423T191221
CREATED:20250924T083539Z
LAST-MODIFIED:20250924T083710Z
UID:2740-1768336200-1768340700@www.badminton-castanet.fr
SUMMARY:Entrainement Adultes Débutants - 13/01/2026
DESCRIPTION:
URL:https://www.badminton-castanet.fr/evenement/entrainement-adultes-debutants-13-01-2026/
CATEGORIES:Entrainements
ATTACH;FMTTYPE=image/jpeg:https://www.badminton-castanet.fr/wp-content/uploads/2025/07/Photo-Benjamin-1.jpg
END:VEVENT
BEGIN:VEVENT
DTSTART;TZID=Europe/Paris:20260115T170000
DTEND;TZID=Europe/Paris:20260115T183000
DTSTAMP:20260423T191221
CREATED:20250911T132435Z
LAST-MODIFIED:20250911T132612Z
UID:2175-1768496400-1768501800@www.badminton-castanet.fr
SUMMARY:Jeu libre - 15/01/2026
DESCRIPTION:
URL:https://www.badminton-castanet.fr/evenement/jeu-libre-15-01-2026/
CATEGORIES:Jeu libre
ATTACH;FMTTYPE=image/jpeg:https://www.badminton-castanet.fr/wp-content/uploads/2025/07/Image-jeu-libre.jpg
END:VEVENT
BEGIN:VEVENT
DTSTART;TZID=Europe/Paris:20260115T170000
DTEND;TZID=Europe/Paris:20260115T183000
DTSTAMP:20260423T191221
CREATED:20250924T081701Z
LAST-MODIFIED:20250924T081942Z
UID:2548-1768496400-1768501800@www.badminton-castanet.fr
SUMMARY:Entrainement Para-Bad - 15/01/2026
DESCRIPTION:
URL:https://www.badminton-castanet.fr/evenement/entrainement-para-bad-15-01-2026/
CATEGORIES:Entrainements
ATTACH;FMTTYPE=image/jpeg:https://www.badminton-castanet.fr/wp-content/uploads/2025/07/Photo-Benjamin-1.jpg
END:VEVENT
BEGIN:VEVENT
DTSTART;TZID=Europe/Paris:20260115T170000
DTEND;TZID=Europe/Paris:20260115T183000
DTSTAMP:20260423T191221
CREATED:20250924T082135Z
LAST-MODIFIED:20250924T082418Z
UID:2596-1768496400-1768501800@www.badminton-castanet.fr
SUMMARY:Entrainement Mini-Bad - 15/01/2026
DESCRIPTION:
URL:https://www.badminton-castanet.fr/evenement/entrainement-mini-bad-15-01-2026/
CATEGORIES:Entrainements
ATTACH;FMTTYPE=image/jpeg:https://www.badminton-castanet.fr/wp-content/uploads/2025/07/Photo-Benjamin-1.jpg
END:VEVENT
BEGIN:VEVENT
DTSTART;TZID=Europe/Paris:20260115T200000
DTEND;TZID=Europe/Paris:20260115T233000
DTSTAMP:20260423T191221
CREATED:20250911T131301Z
LAST-MODIFIED:20250911T131701Z
UID:1924-1768507200-1768519800@www.badminton-castanet.fr
SUMMARY:Jeu libre jeudi - 15/01/2026
DESCRIPTION:
URL:https://www.badminton-castanet.fr/evenement/jeu-libre-jeudi-15-01-2026/
CATEGORIES:Jeu libre
END:VEVENT
BEGIN:VEVENT
DTSTART;TZID=Europe/Paris:20260115T201500
DTEND;TZID=Europe/Paris:20260115T213000
DTSTAMP:20260423T191221
CREATED:20250924T072750Z
LAST-MODIFIED:20250924T081241Z
UID:2468-1768508100-1768512600@www.badminton-castanet.fr
SUMMARY:Entrainement Adultes Intermédiaires - 15/01/2026
DESCRIPTION:
URL:https://www.badminton-castanet.fr/evenement/entrainement-adultes-intermediaires-15-01-2026/
CATEGORIES:Entrainements
ATTACH;FMTTYPE=image/jpeg:https://www.badminton-castanet.fr/wp-content/uploads/2025/07/Photo-Benjamin-1.jpg
END:VEVENT
END:VCALENDAR