BEGIN:VCALENDAR
VERSION:2.0
PRODID:-//Badminton Club de Castanet - ECPv6.15.12.2//NONSGML v1.0//EN
CALSCALE:GREGORIAN
METHOD:PUBLISH
X-WR-CALNAME:Badminton Club de Castanet
X-ORIGINAL-URL:https://www.badminton-castanet.fr
X-WR-CALDESC:Évènements pour Badminton Club de Castanet
REFRESH-INTERVAL;VALUE=DURATION:PT1H
X-Robots-Tag:noindex
X-PUBLISHED-TTL:PT1H
BEGIN:VTIMEZONE
TZID:Europe/Paris
BEGIN:DAYLIGHT
TZOFFSETFROM:+0100
TZOFFSETTO:+0200
TZNAME:CEST
DTSTART:20250330T010000
END:DAYLIGHT
BEGIN:STANDARD
TZOFFSETFROM:+0200
TZOFFSETTO:+0100
TZNAME:CET
DTSTART:20251026T010000
END:STANDARD
BEGIN:DAYLIGHT
TZOFFSETFROM:+0100
TZOFFSETTO:+0200
TZNAME:CEST
DTSTART:20260329T010000
END:DAYLIGHT
BEGIN:STANDARD
TZOFFSETFROM:+0200
TZOFFSETTO:+0100
TZNAME:CET
DTSTART:20261025T010000
END:STANDARD
BEGIN:DAYLIGHT
TZOFFSETFROM:+0100
TZOFFSETTO:+0200
TZNAME:CEST
DTSTART:20270328T010000
END:DAYLIGHT
BEGIN:STANDARD
TZOFFSETFROM:+0200
TZOFFSETTO:+0100
TZNAME:CET
DTSTART:20271031T010000
END:STANDARD
END:VTIMEZONE
BEGIN:VEVENT
DTSTART;VALUE=DATE:20260418
DTEND;VALUE=DATE:20260504
DTSTAMP:20260423T132230
CREATED:20250911T130724Z
LAST-MODIFIED:20250911T130724Z
UID:1872-1776470400-1777852799@www.badminton-castanet.fr
SUMMARY:Vacances Scolaires Printemps
DESCRIPTION:
URL:https://www.badminton-castanet.fr/evenement/vacances-scolaires-printemps/
CATEGORIES:Vacances scolaires
END:VEVENT
BEGIN:VEVENT
DTSTART;TZID=Europe/Paris:20260423T170000
DTEND;TZID=Europe/Paris:20260423T183000
DTSTAMP:20260423T132230
CREATED:20250911T132435Z
LAST-MODIFIED:20250911T133251Z
UID:2189-1776963600-1776969000@www.badminton-castanet.fr
SUMMARY:Jeu libre - 23/04/2026
DESCRIPTION:
URL:https://www.badminton-castanet.fr/evenement/jeu-libre-23-04-2026/
CATEGORIES:Jeu libre
ATTACH;FMTTYPE=image/jpeg:https://www.badminton-castanet.fr/wp-content/uploads/2025/07/Image-jeu-libre.jpg
END:VEVENT
BEGIN:VEVENT
DTSTART;TZID=Europe/Paris:20260423T200000
DTEND;TZID=Europe/Paris:20260423T233000
DTSTAMP:20260423T132230
CREATED:20250911T131302Z
LAST-MODIFIED:20250911T131701Z
UID:1938-1776974400-1776987000@www.badminton-castanet.fr
SUMMARY:Jeu libre jeudi - 23/04/2026
DESCRIPTION:
URL:https://www.badminton-castanet.fr/evenement/jeu-libre-jeudi-23-04-2026/
CATEGORIES:Jeu libre
END:VEVENT
BEGIN:VEVENT
DTSTART;TZID=Europe/Paris:20260424T170000
DTEND;TZID=Europe/Paris:20260424T190000
DTSTAMP:20260423T132230
CREATED:20250911T131345Z
LAST-MODIFIED:20250911T131626Z
UID:1963-1777050000-1777057200@www.badminton-castanet.fr
SUMMARY:Jeu libre - 24/04/2026
DESCRIPTION:
URL:https://www.badminton-castanet.fr/evenement/jeu-libre-24-04-2026/
CATEGORIES:Jeu libre
ATTACH;FMTTYPE=image/jpeg:https://www.badminton-castanet.fr/wp-content/uploads/2025/07/Image-jeu-libre.jpg
END:VEVENT
BEGIN:VEVENT
DTSTART;TZID=Europe/Paris:20260425T120000
DTEND;TZID=Europe/Paris:20260426T190000
DTSTAMP:20260423T132230
CREATED:20260122T155639Z
LAST-MODIFIED:20260122T155639Z
UID:3047-1777118400-1777230000@www.badminton-castanet.fr
SUMMARY:Tournoi de Hand - 25/04/2026
DESCRIPTION:Pas de Jeu libre
URL:https://www.badminton-castanet.fr/evenement/tournoi-de-hand-25-04-2026/
CATEGORIES:Évènements extérieurs
END:VEVENT
BEGIN:VEVENT
DTSTART;TZID=Europe/Paris:20260426T190000
DTEND;TZID=Europe/Paris:20260426T210000
DTSTAMP:20260423T132230
CREATED:20260409T135743Z
LAST-MODIFIED:20260409T135815Z
UID:3054-1777230000-1777237200@www.badminton-castanet.fr
SUMMARY:Jeu libre - 26/04/2026
DESCRIPTION:
URL:https://www.badminton-castanet.fr/evenement/jeu-libre-26-04-2026/
CATEGORIES:Jeu libre
ATTACH;FMTTYPE=image/jpeg:https://www.badminton-castanet.fr/wp-content/uploads/2025/07/Image-jeu-libre.jpg
END:VEVENT
BEGIN:VEVENT
DTSTART;TZID=Europe/Paris:20260428T170000
DTEND;TZID=Europe/Paris:20260428T233000
DTSTAMP:20260423T132230
CREATED:20250911T130953Z
LAST-MODIFIED:20250911T131028Z
UID:1890-1777395600-1777419000@www.badminton-castanet.fr
SUMMARY:Jeu libre mardi - 28/04/2026
DESCRIPTION:
URL:https://www.badminton-castanet.fr/evenement/jeu-libre-mardi-28-04-2026/
CATEGORIES:Jeu libre
ATTACH;FMTTYPE=image/jpeg:https://www.badminton-castanet.fr/wp-content/uploads/2025/07/Image-jeu-libre.jpg
END:VEVENT
BEGIN:VEVENT
DTSTART;TZID=Europe/Paris:20260430T170000
DTEND;TZID=Europe/Paris:20260430T183000
DTSTAMP:20260423T132230
CREATED:20250911T132435Z
LAST-MODIFIED:20250911T133251Z
UID:2190-1777568400-1777573800@www.badminton-castanet.fr
SUMMARY:Jeu libre - 30/04/2026
DESCRIPTION:
URL:https://www.badminton-castanet.fr/evenement/jeu-libre-30-04-2026/
CATEGORIES:Jeu libre
ATTACH;FMTTYPE=image/jpeg:https://www.badminton-castanet.fr/wp-content/uploads/2025/07/Image-jeu-libre.jpg
END:VEVENT
BEGIN:VEVENT
DTSTART;TZID=Europe/Paris:20260430T200000
DTEND;TZID=Europe/Paris:20260430T233000
DTSTAMP:20260423T132230
CREATED:20250911T131302Z
LAST-MODIFIED:20250911T131701Z
UID:1939-1777579200-1777591800@www.badminton-castanet.fr
SUMMARY:Jeu libre jeudi - 30/04/2026
DESCRIPTION:
URL:https://www.badminton-castanet.fr/evenement/jeu-libre-jeudi-30-04-2026/
CATEGORIES:Jeu libre
END:VEVENT
END:VCALENDAR